BEGIN:VCALENDAR
VERSION:2.0
PRODID:-//Student Organization Portal - ECPv6.15.20//NONSGML v1.0//EN
CALSCALE:GREGORIAN
METHOD:PUBLISH
X-ORIGINAL-URL:https://sop.utoronto.ca
X-WR-CALDESC:Events for Student Organization Portal
REFRESH-INTERVAL;VALUE=DURATION:PT1H
X-Robots-Tag:noindex
X-PUBLISHED-TTL:PT1H
BEGIN:VTIMEZONE
TZID:America/Toronto
BEGIN:DAYLIGHT
TZOFFSETFROM:-0500
TZOFFSETTO:-0400
TZNAME:EDT
DTSTART:20210314T070000
END:DAYLIGHT
BEGIN:STANDARD
TZOFFSETFROM:-0400
TZOFFSETTO:-0500
TZNAME:EST
DTSTART:20211107T060000
END:STANDARD
BEGIN:DAYLIGHT
TZOFFSETFROM:-0500
TZOFFSETTO:-0400
TZNAME:EDT
DTSTART:20220313T070000
END:DAYLIGHT
BEGIN:STANDARD
TZOFFSETFROM:-0400
TZOFFSETTO:-0500
TZNAME:EST
DTSTART:20221106T060000
END:STANDARD
BEGIN:DAYLIGHT
TZOFFSETFROM:-0500
TZOFFSETTO:-0400
TZNAME:EDT
DTSTART:20230312T070000
END:DAYLIGHT
BEGIN:STANDARD
TZOFFSETFROM:-0400
TZOFFSETTO:-0500
TZNAME:EST
DTSTART:20231105T060000
END:STANDARD
END:VTIMEZONE
BEGIN:VEVENT
DTSTART;TZID=America/Toronto:20220222T130000
DTEND;TZID=America/Toronto:20220222T143000
DTSTAMP:20260422T104552
CREATED:20230215T190742Z
LAST-MODIFIED:20230215T190743Z
UID:10000354-1645534800-1645540200@sop.utoronto.ca
SUMMARY:Black Futures: Resilience in Nursing
DESCRIPTION:Join the Graduate Nurses’ Student Society and Nursing Undergraduate Society for a seminar presented by two representatives from the Canadian Black Nurses Alliance\, Ovie Onagbeboma and Ola Abanta Thomas Obewu\, and moderated by two U of T Nursing Students. This event is being held virtually (over Zoom) and in-person in the Nursing Lounge (HSB 3rd Floor). Please RSVP using the link. This event is open to all who are interested in learning about the resilience Black nurses have demonstrated in nursing over time. 
URL:https://sop.utoronto.ca/event/black-futures-resilience-in-nursing/
LOCATION:Bloomberg Nursing Lounge (HSB 3rd Floor)\, 155 College Street\, Toronto\, Ontario\, M5S 3E3\, Canada
CATEGORIES:Hybrid
ORGANIZER;CN="Graduate Nurses Student Society":MAILTO:gnss@studentorg.utoronto.ca
END:VEVENT
BEGIN:VEVENT
DTSTART;TZID=America/Toronto:20220222T130000
DTEND;TZID=America/Toronto:20220222T143000
DTSTAMP:20260422T104552
CREATED:20230215T191448Z
LAST-MODIFIED:20230215T191448Z
UID:10000355-1645534800-1645540200@sop.utoronto.ca
SUMMARY:Black Futures: Resilience in Nursing
DESCRIPTION:Join the Graduate Nurses’ Student Society (GNSS) and the Nursing Undergraduate Society (NUS) for a panel discussion on the resilience Black nurses have demonstrated in nursing over time\, moderated by two U of T Nursing students. We are excited to welcome two representatives from the Canadian Black Nurses Alliance: Ovie Onagbeboma and Ola Abanta Thomas Obewu. This panel will be a hybrid event held virtually (via Zoom) and in-person in the Bloomberg Nursing Student Lounge (HSB 3rd Floor). Please RSVP your attendance using this link.
URL:https://sop.utoronto.ca/event/black-futures-resilience-in-nursing-2/
LOCATION:Bloomberg Nursing Student Lounge (HSB 3rd Floor)\, 155 College Street\, Toronto\, Ontario\, M5S 3E3\, Canada
CATEGORIES:Hybrid
ORGANIZER;CN="Graduate Nurses Student Society":MAILTO:gnss@studentorg.utoronto.ca
END:VEVENT
END:VCALENDAR