BEGIN:VCALENDAR
VERSION:2.0
PRODID:-//Student Organization Portal - ECPv6.15.20//NONSGML v1.0//EN
CALSCALE:GREGORIAN
METHOD:PUBLISH
X-ORIGINAL-URL:https://sop.utoronto.ca
X-WR-CALDESC:Events for Student Organization Portal
REFRESH-INTERVAL;VALUE=DURATION:PT1H
X-Robots-Tag:noindex
X-PUBLISHED-TTL:PT1H
BEGIN:VTIMEZONE
TZID:America/Toronto
BEGIN:DAYLIGHT
TZOFFSETFROM:-0500
TZOFFSETTO:-0400
TZNAME:EDT
DTSTART:20210314T070000
END:DAYLIGHT
BEGIN:STANDARD
TZOFFSETFROM:-0400
TZOFFSETTO:-0500
TZNAME:EST
DTSTART:20211107T060000
END:STANDARD
BEGIN:DAYLIGHT
TZOFFSETFROM:-0500
TZOFFSETTO:-0400
TZNAME:EDT
DTSTART:20220313T070000
END:DAYLIGHT
BEGIN:STANDARD
TZOFFSETFROM:-0400
TZOFFSETTO:-0500
TZNAME:EST
DTSTART:20221106T060000
END:STANDARD
BEGIN:DAYLIGHT
TZOFFSETFROM:-0500
TZOFFSETTO:-0400
TZNAME:EDT
DTSTART:20230312T070000
END:DAYLIGHT
BEGIN:STANDARD
TZOFFSETFROM:-0400
TZOFFSETTO:-0500
TZNAME:EST
DTSTART:20231105T060000
END:STANDARD
END:VTIMEZONE
BEGIN:VEVENT
DTSTART;TZID=America/Toronto:20220829T090000
DTEND;TZID=America/Toronto:20220830T150000
DTSTAMP:20260422T065536
CREATED:20220824T051019Z
LAST-MODIFIED:20220824T051020Z
UID:10000314-1661763600-1661871600@sop.utoronto.ca
SUMMARY:U-TAAC: Accessibility Services' Moving Forward Event!
DESCRIPTION:In collaboration with Accessibility Services\, U-TAAC is participating in Moving Forward Orientation. The event is happening from August 29th-3oth. 9am-3pm \nAt 1:40\, U-TAAC’s President Catherine Dumé will be introducing the club as one of the many sessions during the first day of the event. \nHowever\, U-TAAC encourages members and others to sign up to learn more about Accessibility Services\, what they offer as well as tips and tricks to succeed at U of T academically. \nYou can sign up for this event here: https://clnx.utoronto.ca/home/slevents.htm?eventId=42338 \nIf you have any questions about U-TAAC please contact us at utaac.info@gmail.com \nIf you have questions about the event\, please contact the organizer Morghan Brett.
URL:https://sop.utoronto.ca/event/u-taac-accessibility-services-moving-forward-event/
LOCATION:Student Commons\, 230 College Street\, Toronto\, Ontario\, M5T 1R2\, Canada
CATEGORIES:Hybrid
ORGANIZER;CN="Accessibility Awareness Club":MAILTO:morghan.brett@utoronto.ca
END:VEVENT
END:VCALENDAR