BEGIN:VCALENDAR
VERSION:2.0
PRODID:-//Student Organization Portal - ECPv6.15.20//NONSGML v1.0//EN
CALSCALE:GREGORIAN
METHOD:PUBLISH
X-WR-CALNAME:Student Organization Portal
X-ORIGINAL-URL:https://sop.utoronto.ca
X-WR-CALDESC:Events for Student Organization Portal
REFRESH-INTERVAL;VALUE=DURATION:PT1H
X-Robots-Tag:noindex
X-PUBLISHED-TTL:PT1H
BEGIN:VTIMEZONE
TZID:America/Toronto
BEGIN:DAYLIGHT
TZOFFSETFROM:-0500
TZOFFSETTO:-0400
TZNAME:EDT
DTSTART:20210314T070000
END:DAYLIGHT
BEGIN:STANDARD
TZOFFSETFROM:-0400
TZOFFSETTO:-0500
TZNAME:EST
DTSTART:20211107T060000
END:STANDARD
BEGIN:DAYLIGHT
TZOFFSETFROM:-0500
TZOFFSETTO:-0400
TZNAME:EDT
DTSTART:20220313T070000
END:DAYLIGHT
BEGIN:STANDARD
TZOFFSETFROM:-0400
TZOFFSETTO:-0500
TZNAME:EST
DTSTART:20221106T060000
END:STANDARD
BEGIN:DAYLIGHT
TZOFFSETFROM:-0500
TZOFFSETTO:-0400
TZNAME:EDT
DTSTART:20230312T070000
END:DAYLIGHT
BEGIN:STANDARD
TZOFFSETFROM:-0400
TZOFFSETTO:-0500
TZNAME:EST
DTSTART:20231105T060000
END:STANDARD
END:VTIMEZONE
BEGIN:VEVENT
DTSTART;TZID=America/Toronto:20220926T070000
DTEND;TZID=America/Toronto:20220930T000000
DTSTAMP:20260420T134651
CREATED:20220925T195323Z
LAST-MODIFIED:20220925T195324Z
UID:10000323-1664175600-1664496000@sop.utoronto.ca
SUMMARY:Donation drive
DESCRIPTION:Humanity first is hosting a donation drive on campus. We are requesting food donations\, school supplies and clothes. We will have three bins placed in front of the library at ARC- two for food\, one for clothing and school supplies. You can drop off your donations at anytime throughout the week.
URL:https://sop.utoronto.ca/event/donation-drive/
LOCATION:Infront of UTSC Library at ARC\, University of Toronto Scarborough\, 1265 military trail\, Ontario\, Scarborough\, M1C1A4\, Canada
CATEGORIES:In Person On Campus
ORGANIZER;CN="Humanity First Club %E2%80%93 University of Toronto":MAILTO:humanityfirst@studentorg.utoronto.ca
END:VEVENT
END:VCALENDAR