BEGIN:VCALENDAR
VERSION:2.0
PRODID:-//Student Organization Portal - ECPv6.15.20//NONSGML v1.0//EN
CALSCALE:GREGORIAN
METHOD:PUBLISH
X-ORIGINAL-URL:https://sop.utoronto.ca
X-WR-CALDESC:Events for Student Organization Portal
REFRESH-INTERVAL;VALUE=DURATION:PT1H
X-Robots-Tag:noindex
X-PUBLISHED-TTL:PT1H
BEGIN:VTIMEZONE
TZID:America/Toronto
BEGIN:DAYLIGHT
TZOFFSETFROM:-0500
TZOFFSETTO:-0400
TZNAME:EDT
DTSTART:20210314T070000
END:DAYLIGHT
BEGIN:STANDARD
TZOFFSETFROM:-0400
TZOFFSETTO:-0500
TZNAME:EST
DTSTART:20211107T060000
END:STANDARD
BEGIN:DAYLIGHT
TZOFFSETFROM:-0500
TZOFFSETTO:-0400
TZNAME:EDT
DTSTART:20220313T070000
END:DAYLIGHT
BEGIN:STANDARD
TZOFFSETFROM:-0400
TZOFFSETTO:-0500
TZNAME:EST
DTSTART:20221106T060000
END:STANDARD
BEGIN:DAYLIGHT
TZOFFSETFROM:-0500
TZOFFSETTO:-0400
TZNAME:EDT
DTSTART:20230312T070000
END:DAYLIGHT
BEGIN:STANDARD
TZOFFSETFROM:-0400
TZOFFSETTO:-0500
TZNAME:EST
DTSTART:20231105T060000
END:STANDARD
END:VTIMEZONE
BEGIN:VEVENT
DTSTART;TZID=America/Toronto:20221027T190000
DTEND;TZID=America/Toronto:20221027T200000
DTSTAMP:20260422T045832
CREATED:20221023T235809Z
LAST-MODIFIED:20221023T235809Z
UID:10000331-1666897200-1666900800@sop.utoronto.ca
SUMMARY:UTSAM Game Night
DESCRIPTION:Join the University of Toronto Student Association of Malayalees (UTSAM) for our first in-person event of the year: Game Night! This will be a chance for students to meet and socialize with other students and play games such as bingo\, musical chairs\, and more! \nSign-up Form
URL:https://sop.utoronto.ca/event/utsam-game-night/
LOCATION:Ontario Institute for Studies in Education\, Room 5240\, 252 Bloor Street West\, Toronto\, Ontario\, M5S 1V6\, Canada
CATEGORIES:In Person On Campus
ORGANIZER;CN="University of Toronto Student Association of Malayalees (UTSAM)":MAILTO:niranj.sasikumar@mail.utoronto.ca
END:VEVENT
END:VCALENDAR