BEGIN:VCALENDAR
VERSION:2.0
PRODID:-//Student Organization Portal - ECPv6.15.20//NONSGML v1.0//EN
CALSCALE:GREGORIAN
METHOD:PUBLISH
X-ORIGINAL-URL:https://sop.utoronto.ca
X-WR-CALDESC:Events for Student Organization Portal
REFRESH-INTERVAL;VALUE=DURATION:PT1H
X-Robots-Tag:noindex
X-PUBLISHED-TTL:PT1H
BEGIN:VTIMEZONE
TZID:America/Toronto
BEGIN:DAYLIGHT
TZOFFSETFROM:-0500
TZOFFSETTO:-0400
TZNAME:EDT
DTSTART:20210314T070000
END:DAYLIGHT
BEGIN:STANDARD
TZOFFSETFROM:-0400
TZOFFSETTO:-0500
TZNAME:EST
DTSTART:20211107T060000
END:STANDARD
BEGIN:DAYLIGHT
TZOFFSETFROM:-0500
TZOFFSETTO:-0400
TZNAME:EDT
DTSTART:20220313T070000
END:DAYLIGHT
BEGIN:STANDARD
TZOFFSETFROM:-0400
TZOFFSETTO:-0500
TZNAME:EST
DTSTART:20221106T060000
END:STANDARD
BEGIN:DAYLIGHT
TZOFFSETFROM:-0500
TZOFFSETTO:-0400
TZNAME:EDT
DTSTART:20230312T070000
END:DAYLIGHT
BEGIN:STANDARD
TZOFFSETFROM:-0400
TZOFFSETTO:-0500
TZNAME:EST
DTSTART:20231105T060000
END:STANDARD
END:VTIMEZONE
BEGIN:VEVENT
DTSTART;TZID=America/Toronto:20221028T180000
DTEND;TZID=America/Toronto:20221028T193000
DTSTAMP:20260421T023025
CREATED:20221026T154509Z
LAST-MODIFIED:20221026T154510Z
UID:10000333-1666980000-1666985400@sop.utoronto.ca
SUMMARY:Halloween Random Dance Party
DESCRIPTION:We are hosting a Halloween Random Dance Party on Oct.28th\, 2022. We have prepared a Kpop random dance playlist for everyone to enjoy and dance to\, please check out our social media for the playlist. AND also we have prepared performances as while. Please reach out to us if you have any questions! \nDue to indoor capacity\, please register with the link below \nregister link: https://forms.gle/Jqof4ydGJuxagtnu9 \nEvent check-in time: 5:45pm – 6:00pm \n  \n 
URL:https://sop.utoronto.ca/event/halloween-random-dance-party/
LOCATION:Pan Am Sports Center Studio 2\, 875 Morningside Avenue\, Toronto\, Ontario\, M1C 0C7\, Canada
CATEGORIES:In Person On Campus
ORGANIZER;CN="X-Hit Dance Club":MAILTO:cathy.rong@mail.utoronto.ca
END:VEVENT
BEGIN:VEVENT
DTSTART;TZID=America/Toronto:20221028T183000
DTEND;TZID=America/Toronto:20221028T200000
DTSTAMP:20260421T023025
CREATED:20221013T162922Z
LAST-MODIFIED:20221013T163125Z
UID:10000326-1666981800-1666987200@sop.utoronto.ca
SUMMARY:6th Annual Haunted Campus Ghost Tours
DESCRIPTION:Join the University of Toronto Students’ History Collective for our 6th Annual Haunted Campus Ghost Tours! Be led by tour guides through the historic campus as Victorian ghosts tell you spooky stories from its’ past. \nThis event is open to anyone who purchases tickets online ahead of time. Once tickets are sold out\, no more will be available. No refunds will be available. \nPlease arrive approx. 15-20 minutes before the tour begins with your tickets ready. The event will begin on time regardless of whether or not everyone who bought tickets is checked in. \nThe event will be held outside regardless of the weather\, so please dress accordingly. The tour will include stairs and is not wheelchair accessible. \nIf you have any questions\, please contact us on Instagram @uthistorycollective or email uofthistorysociety@gmail.com.
URL:https://sop.utoronto.ca/event/6th-annual-haunted-campus-ghost-tours/
LOCATION:Convocation Hall\, 31 King's College Circle\, Toronto\, Ontario\, M5S 1A1\, Canada
CATEGORIES:In Person On Campus
ORGANIZER;CN="University of Toronto Students%E2%80%99 History Collective":MAILTO:rosemary.crowley@mail.utoronto.ca
END:VEVENT
BEGIN:VEVENT
DTSTART;TZID=America/Toronto:20221028T193000
DTEND;TZID=America/Toronto:20221028T233000
DTSTAMP:20260421T023025
CREATED:20221023T204844Z
LAST-MODIFIED:20221023T205903Z
UID:10000330-1666985400-1666999800@sop.utoronto.ca
SUMMARY:Haunted Absolute
DESCRIPTION:The 5th Annual UTM’s biggest Halloween Party is back!! \nGet absolutely tricked – featuring music\, dance\, costume contest\, games\, and drinks. \nTickets are on sale now: early bird ($20) [soldout] regular ($25). \nEveryone is welcome to join! \n 
URL:https://sop.utoronto.ca/event/haunted-absolute/
LOCATION:Absolute Clubhouse\, 76 Absolute Avenue\, Mississauga\, Ontario\, L4Z 0A8\, Canada
CATEGORIES:In Person Off Campus
ORGANIZER;CN="ICCIT Council":MAILTO:jemmahyejun.jeong@mail.utoronto.ca
END:VEVENT
END:VCALENDAR