BEGIN:VCALENDAR
VERSION:2.0
PRODID:-//Student Organization Portal - ECPv6.15.20//NONSGML v1.0//EN
CALSCALE:GREGORIAN
METHOD:PUBLISH
X-ORIGINAL-URL:https://sop.utoronto.ca
X-WR-CALDESC:Events for Student Organization Portal
REFRESH-INTERVAL;VALUE=DURATION:PT1H
X-Robots-Tag:noindex
X-PUBLISHED-TTL:PT1H
BEGIN:VTIMEZONE
TZID:America/Toronto
BEGIN:DAYLIGHT
TZOFFSETFROM:-0500
TZOFFSETTO:-0400
TZNAME:EDT
DTSTART:20210314T070000
END:DAYLIGHT
BEGIN:STANDARD
TZOFFSETFROM:-0400
TZOFFSETTO:-0500
TZNAME:EST
DTSTART:20211107T060000
END:STANDARD
BEGIN:DAYLIGHT
TZOFFSETFROM:-0500
TZOFFSETTO:-0400
TZNAME:EDT
DTSTART:20220313T070000
END:DAYLIGHT
BEGIN:STANDARD
TZOFFSETFROM:-0400
TZOFFSETTO:-0500
TZNAME:EST
DTSTART:20221106T060000
END:STANDARD
BEGIN:DAYLIGHT
TZOFFSETFROM:-0500
TZOFFSETTO:-0400
TZNAME:EDT
DTSTART:20230312T070000
END:DAYLIGHT
BEGIN:STANDARD
TZOFFSETFROM:-0400
TZOFFSETTO:-0500
TZNAME:EST
DTSTART:20231105T060000
END:STANDARD
END:VTIMEZONE
BEGIN:VEVENT
DTSTART;TZID=America/Toronto:20221124T140000
DTEND;TZID=America/Toronto:20221124T160000
DTSTAMP:20260422T131017
CREATED:20221124T155055Z
LAST-MODIFIED:20221124T155059Z
UID:10000339-1669298400-1669305600@sop.utoronto.ca
SUMMARY:Brazil vs Serbia
DESCRIPTION:The Countdown is On! 🏆 Come with us to watch the Seleção’s first game of the 2022 FIFA World Cup and cheer together for the HEXA this Thursday\, November 24th at the GSU Pub! \nNote: GSU will not serve food\, but they allowed us to bring food from outside and order delivery there!
URL:https://sop.utoronto.ca/event/brazil-vs-serbia/
LOCATION:GSU Pub\, 16 Bancroft Avenue\, Toronto\, Ontario\, M5S 1C1\, Canada
CATEGORIES:In Person On Campus
ORGANIZER;CN="Brazilian Student Association University of Toronto (BRASA UofT)":MAILTO:alexandre.gouveiarodrigues@mail.utoronto.ca
END:VEVENT
END:VCALENDAR