BEGIN:VCALENDAR
VERSION:2.0
PRODID:-//Student Organization Portal - ECPv6.15.20//NONSGML v1.0//EN
CALSCALE:GREGORIAN
METHOD:PUBLISH
X-WR-CALNAME:Student Organization Portal
X-ORIGINAL-URL:https://sop.utoronto.ca
X-WR-CALDESC:Events for Student Organization Portal
REFRESH-INTERVAL;VALUE=DURATION:PT1H
X-Robots-Tag:noindex
X-PUBLISHED-TTL:PT1H
BEGIN:VTIMEZONE
TZID:America/Toronto
BEGIN:DAYLIGHT
TZOFFSETFROM:-0500
TZOFFSETTO:-0400
TZNAME:EDT
DTSTART:20220313T070000
END:DAYLIGHT
BEGIN:STANDARD
TZOFFSETFROM:-0400
TZOFFSETTO:-0500
TZNAME:EST
DTSTART:20221106T060000
END:STANDARD
BEGIN:DAYLIGHT
TZOFFSETFROM:-0500
TZOFFSETTO:-0400
TZNAME:EDT
DTSTART:20230312T070000
END:DAYLIGHT
BEGIN:STANDARD
TZOFFSETFROM:-0400
TZOFFSETTO:-0500
TZNAME:EST
DTSTART:20231105T060000
END:STANDARD
BEGIN:DAYLIGHT
TZOFFSETFROM:-0500
TZOFFSETTO:-0400
TZNAME:EDT
DTSTART:20240310T070000
END:DAYLIGHT
BEGIN:STANDARD
TZOFFSETFROM:-0400
TZOFFSETTO:-0500
TZNAME:EST
DTSTART:20241103T060000
END:STANDARD
BEGIN:DAYLIGHT
TZOFFSETFROM:-0500
TZOFFSETTO:-0400
TZNAME:EDT
DTSTART:20250309T070000
END:DAYLIGHT
BEGIN:STANDARD
TZOFFSETFROM:-0400
TZOFFSETTO:-0500
TZNAME:EST
DTSTART:20251102T060000
END:STANDARD
END:VTIMEZONE
BEGIN:VEVENT
DTSTART;TZID=America/Toronto:20230101T160000
DTEND;TZID=America/Toronto:20240929T210000
DTSTAMP:20260417T041431
CREATED:20230730T175758Z
LAST-MODIFIED:20230730T175758Z
UID:10000277-1672588800-1727643600@sop.utoronto.ca
SUMMARY:Movie Screening
DESCRIPTION:We gather every Sunday at 4 pm to watch a movie chosen by the winner proposal the group members get to vote for.\nThe location is the OISE Building\, 252 Bloor Street West\, Fifth floor\, room 5260. \nJust to let you know\, the room may change due to building closure or other University of Toronto changes. We inform the changes via the email you will receive each week. You can send an email to the club email and ask to be added to the member’s list to receive information weekly. \nnamanacinema@gmail.com
URL:https://sop.utoronto.ca/event/movie-screening/
LOCATION:OISE building\, apt 2\, 472 Dupont Street.\, toronto\, Ontario\, M5R1w6\, Canada
CATEGORIES:Hybrid
ORGANIZER;CN="NamanaCinema":MAILTO:pershang.salehy@mail.utoronto.ca
END:VEVENT
BEGIN:VEVENT
DTSTART;TZID=America/Toronto:20230224T090000
DTEND;TZID=America/Toronto:20230311T170000
DTSTAMP:20260417T041431
CREATED:20230225T161454Z
LAST-MODIFIED:20230225T161454Z
UID:10000357-1677229200-1678554000@sop.utoronto.ca
SUMMARY:Unissued Diplomas
DESCRIPTION:“When your classroom turns into a battlefield\, your major becomes bravery” \nAn exhibition honouring the memory of 36 Ukrainian university students who will never be able to graduate because russia took their lives. \n 
URL:https://sop.utoronto.ca/event/unissued-diplomas/
LOCATION:St. Volodymyr Institute\, 620 Spadina Avenue\, Toronto\, Ontario\, M5S 2H4\, Canada
CATEGORIES:In Person On Campus
ORGANIZER;CN="Ukrainian Students%E2%80%99 Club":MAILTO:alex.zamer@mail.utoronto.ca
END:VEVENT
BEGIN:VEVENT
DTSTART;TZID=America/Toronto:20230224T090000
DTEND;TZID=America/Toronto:20230316T170000
DTSTAMP:20260417T041431
CREATED:20230225T162028Z
LAST-MODIFIED:20230225T162029Z
UID:10000358-1677229200-1678986000@sop.utoronto.ca
SUMMARY:Art Exhibition "Traces of War"
DESCRIPTION:The pain and emotions of war expressed through art\, created by Ukrainian students.
URL:https://sop.utoronto.ca/event/art-exhibition-traces-of-war/
LOCATION:Hart House\, Talking Walls\, 7 Hart House Circle\, Toronto\, Ontario\, M5S 3H3\, Canada
CATEGORIES:In Person On Campus
ORGANIZER;CN="Ukrainian Students%E2%80%99 Club":MAILTO:alex.zamer@mail.utoronto.ca
END:VEVENT
END:VCALENDAR