BEGIN:VCALENDAR
VERSION:2.0
PRODID:-//Student Organization Portal - ECPv6.15.20//NONSGML v1.0//EN
CALSCALE:GREGORIAN
METHOD:PUBLISH
X-ORIGINAL-URL:https://sop.utoronto.ca
X-WR-CALDESC:Events for Student Organization Portal
REFRESH-INTERVAL;VALUE=DURATION:PT1H
X-Robots-Tag:noindex
X-PUBLISHED-TTL:PT1H
BEGIN:VTIMEZONE
TZID:America/Toronto
BEGIN:DAYLIGHT
TZOFFSETFROM:-0500
TZOFFSETTO:-0400
TZNAME:EDT
DTSTART:20230312T070000
END:DAYLIGHT
BEGIN:STANDARD
TZOFFSETFROM:-0400
TZOFFSETTO:-0500
TZNAME:EST
DTSTART:20231105T060000
END:STANDARD
BEGIN:DAYLIGHT
TZOFFSETFROM:-0500
TZOFFSETTO:-0400
TZNAME:EDT
DTSTART:20240310T070000
END:DAYLIGHT
BEGIN:STANDARD
TZOFFSETFROM:-0400
TZOFFSETTO:-0500
TZNAME:EST
DTSTART:20241103T060000
END:STANDARD
BEGIN:DAYLIGHT
TZOFFSETFROM:-0500
TZOFFSETTO:-0400
TZNAME:EDT
DTSTART:20250309T070000
END:DAYLIGHT
BEGIN:STANDARD
TZOFFSETFROM:-0400
TZOFFSETTO:-0500
TZNAME:EST
DTSTART:20251102T060000
END:STANDARD
END:VTIMEZONE
BEGIN:VEVENT
DTSTART;TZID=America/Toronto:20241018T170000
DTEND;TZID=America/Toronto:20241018T200000
DTSTAMP:20260422T130540
CREATED:20241011T011929Z
LAST-MODIFIED:20241011T011929Z
UID:10000439-1729270800-1729281600@sop.utoronto.ca
SUMMARY:Chai to Survive: A Murder Mystery Game Night!
DESCRIPTION:Join us for Chai to Survive\, an interactive murder mystery event where you’ll sip chai\, solve clues\, and unravel a thrilling whodunit! Gather your friends\, sign up\, and put your detective skills to the test as you race to uncover the mystery. Will you survive the night\, or become the next victim? Don’t miss out on this fun\, immersive experience—spots are limited\, so sign up now! \n  \n  \nLINK TO SIGN UP: https://forms.gle/3nvQ2cbEf5w5p3sZ6 \n  \n@asauoft on IG \n 
URL:https://sop.utoronto.ca/event/chai-to-survive-a-murder-mystery-game-night/
LOCATION:Ontario Institute for Studies in Education\, 252 Bloor Street West\, Toronto\, Ontario\, M5S 1V6\, Canada
CATEGORIES:In Person On Campus
ORGANIZER;CN="Afghan Students%E2%80%99 Association":MAILTO:Y.jamasi@mail.utoronto.ca
END:VEVENT
END:VCALENDAR