BEGIN:VCALENDAR
VERSION:2.0
PRODID:-//Student Organization Portal - ECPv6.15.20//NONSGML v1.0//EN
CALSCALE:GREGORIAN
METHOD:PUBLISH
X-ORIGINAL-URL:https://sop.utoronto.ca
X-WR-CALDESC:Events for Student Organization Portal
REFRESH-INTERVAL;VALUE=DURATION:PT1H
X-Robots-Tag:noindex
X-PUBLISHED-TTL:PT1H
BEGIN:VTIMEZONE
TZID:America/Toronto
BEGIN:DAYLIGHT
TZOFFSETFROM:-0500
TZOFFSETTO:-0400
TZNAME:EDT
DTSTART:20240310T070000
END:DAYLIGHT
BEGIN:STANDARD
TZOFFSETFROM:-0400
TZOFFSETTO:-0500
TZNAME:EST
DTSTART:20241103T060000
END:STANDARD
BEGIN:DAYLIGHT
TZOFFSETFROM:-0500
TZOFFSETTO:-0400
TZNAME:EDT
DTSTART:20250309T070000
END:DAYLIGHT
BEGIN:STANDARD
TZOFFSETFROM:-0400
TZOFFSETTO:-0500
TZNAME:EST
DTSTART:20251102T060000
END:STANDARD
BEGIN:DAYLIGHT
TZOFFSETFROM:-0500
TZOFFSETTO:-0400
TZNAME:EDT
DTSTART:20260308T070000
END:DAYLIGHT
BEGIN:STANDARD
TZOFFSETFROM:-0400
TZOFFSETTO:-0500
TZNAME:EST
DTSTART:20261101T060000
END:STANDARD
END:VTIMEZONE
BEGIN:VEVENT
DTSTART;TZID=America/Toronto:20250310T170000
DTEND;TZID=America/Toronto:20250310T200000
DTSTAMP:20260422T142819
CREATED:20250221T204636Z
LAST-MODIFIED:20250323T205521Z
UID:10000457-1741626000-1741636800@sop.utoronto.ca
SUMMARY:UofTBEN Karaoke Social
DESCRIPTION:Come meet the community\, join us\, make friends and have a fun time! Drinks\, food\, and dessert provided!
URL:https://sop.utoronto.ca/event/uoftben-karaoke-social/
LOCATION:Cats Eye\, 150 Charles St W\, Toronto\, Ontario\, M5S 1K9\, Canada
CATEGORIES:In Person On Campus
ORGANIZER;CN="BioEntrepreneurship Network (BEN)":MAILTO:lilyz.jiang@mail.utoronto.ca
END:VEVENT
END:VCALENDAR