BEGIN:VCALENDAR
VERSION:2.0
PRODID:-//Student Organization Portal - ECPv6.15.20//NONSGML v1.0//EN
CALSCALE:GREGORIAN
METHOD:PUBLISH
X-WR-CALNAME:Student Organization Portal
X-ORIGINAL-URL:https://sop.utoronto.ca
X-WR-CALDESC:Events for Student Organization Portal
REFRESH-INTERVAL;VALUE=DURATION:PT1H
X-Robots-Tag:noindex
X-PUBLISHED-TTL:PT1H
BEGIN:VTIMEZONE
TZID:America/Toronto
BEGIN:DAYLIGHT
TZOFFSETFROM:-0500
TZOFFSETTO:-0400
TZNAME:EDT
DTSTART:20240310T070000
END:DAYLIGHT
BEGIN:STANDARD
TZOFFSETFROM:-0400
TZOFFSETTO:-0500
TZNAME:EST
DTSTART:20241103T060000
END:STANDARD
BEGIN:DAYLIGHT
TZOFFSETFROM:-0500
TZOFFSETTO:-0400
TZNAME:EDT
DTSTART:20250309T070000
END:DAYLIGHT
BEGIN:STANDARD
TZOFFSETFROM:-0400
TZOFFSETTO:-0500
TZNAME:EST
DTSTART:20251102T060000
END:STANDARD
BEGIN:DAYLIGHT
TZOFFSETFROM:-0500
TZOFFSETTO:-0400
TZNAME:EDT
DTSTART:20260308T070000
END:DAYLIGHT
BEGIN:STANDARD
TZOFFSETFROM:-0400
TZOFFSETTO:-0500
TZNAME:EST
DTSTART:20261101T060000
END:STANDARD
END:VTIMEZONE
BEGIN:VEVENT
DTSTART;TZID=America/Toronto:20250321T140000
DTEND;TZID=America/Toronto:20250321T160000
DTSTAMP:20260420T191823
CREATED:20250319T191937Z
LAST-MODIFIED:20250319T192223Z
UID:10000463-1742565600-1742572800@sop.utoronto.ca
SUMMARY:Exploring the Brain: Debra Bercovici
DESCRIPTION:Join us at IA-2021 for a workshop that celebrates neurodiversity and invites you to reflect on what it means to be a neurodivergent student. Led by Dr. Debra Bercovici\, a neurodivergent neuroscientist and psychotherapist\, this session explores neurodiversity through a sociopolitical lens. Engage in discussions about navigating academia as a neurodivergent person and develop a personalized toolkit to support your university experience. Topics include setting boundaries\, identifying needs and values\, executive functioning and studying\, self-disclosure\, masking and authenticity\, rejection sensitivity\, advocacy\, and more. This interactive workshop welcomes various forms of participation\, including non-speaking and anonymous engagement.
URL:https://sop.utoronto.ca/event/exploring-the-brain-debra-bercovici/
LOCATION:IA-2021\, UTSC\, 1265 Military Trail\, Ontario\, Toronto\, Canada
CATEGORIES:In Person On Campus
ORGANIZER;CN="NeuroVerse Society (NVS)":MAILTO:Raysa.khandaker@mail.utoronto.ca
END:VEVENT
END:VCALENDAR