BEGIN:VCALENDAR
VERSION:2.0
PRODID:-//Student Organization Portal - ECPv6.15.20//NONSGML v1.0//EN
CALSCALE:GREGORIAN
METHOD:PUBLISH
X-WR-CALNAME:Student Organization Portal
X-ORIGINAL-URL:https://sop.utoronto.ca
X-WR-CALDESC:Events for Student Organization Portal
REFRESH-INTERVAL;VALUE=DURATION:PT1H
X-Robots-Tag:noindex
X-PUBLISHED-TTL:PT1H
BEGIN:VTIMEZONE
TZID:America/Toronto
BEGIN:DAYLIGHT
TZOFFSETFROM:-0500
TZOFFSETTO:-0400
TZNAME:EDT
DTSTART:20240310T070000
END:DAYLIGHT
BEGIN:STANDARD
TZOFFSETFROM:-0400
TZOFFSETTO:-0500
TZNAME:EST
DTSTART:20241103T060000
END:STANDARD
BEGIN:DAYLIGHT
TZOFFSETFROM:-0500
TZOFFSETTO:-0400
TZNAME:EDT
DTSTART:20250309T070000
END:DAYLIGHT
BEGIN:STANDARD
TZOFFSETFROM:-0400
TZOFFSETTO:-0500
TZNAME:EST
DTSTART:20251102T060000
END:STANDARD
BEGIN:DAYLIGHT
TZOFFSETFROM:-0500
TZOFFSETTO:-0400
TZNAME:EDT
DTSTART:20260308T070000
END:DAYLIGHT
BEGIN:STANDARD
TZOFFSETFROM:-0400
TZOFFSETTO:-0500
TZNAME:EST
DTSTART:20261101T060000
END:STANDARD
END:VTIMEZONE
BEGIN:VEVENT
DTSTART;TZID=America/Toronto:20250830T100000
DTEND;TZID=America/Toronto:20250830T160000
DTSTAMP:20260420T021824
CREATED:20250817T153214Z
LAST-MODIFIED:20250817T234042Z
UID:10000473-1756548000-1756569600@sop.utoronto.ca
SUMMARY:TRPEx Innovation in Action\, Science Meets Art Conference
DESCRIPTION:Join us for TRPEx: Innovation in Action\, a one-day\, in-person conference at U of T’s historic Hart House that brings science and art together to spark bold ideas in healthcare!\n\nExpect inspiring panel discussions\, keynote talks\, activities and a networking showcase featuring experts in arts-based health research and science communication. Whether you would like to submit an art piece that reflects our theme or attend\, we invite you!\n\nInstead of traditional research posters\, explore a unique art exhibition merging science and art to reimagine healthcare innovation. Students and artists are invited to submit creative works that bring this theme to life!\n\nWhether you’re a researcher\, innovator\, student\, or curious creative\, TRPEx is your chance to connect across disciplines\, spark collaborations\, and discover unconventional career paths.
URL:https://sop.utoronto.ca/event/trpex-innovation-in-action-science-meets-art-conference/
LOCATION:Hart House\, University of Toronto\, 7 Hart House Cir\, Toronto\, Ontario\, M5S 3H3\, Canada
CATEGORIES:In Person On Campus
ORGANIZER;CN="Committee of Laboratory Medicine and Pathobiology Students":MAILTO:sherylester.gumiranordonez@mail.utoronto.ca
END:VEVENT
END:VCALENDAR