BEGIN:VCALENDAR
VERSION:2.0
PRODID:-//Student Organization Portal - ECPv6.15.20//NONSGML v1.0//EN
CALSCALE:GREGORIAN
METHOD:PUBLISH
X-ORIGINAL-URL:https://sop.utoronto.ca
X-WR-CALDESC:Events for Student Organization Portal
REFRESH-INTERVAL;VALUE=DURATION:PT1H
X-Robots-Tag:noindex
X-PUBLISHED-TTL:PT1H
BEGIN:VTIMEZONE
TZID:America/Toronto
BEGIN:DAYLIGHT
TZOFFSETFROM:-0500
TZOFFSETTO:-0400
TZNAME:EDT
DTSTART:20250309T070000
END:DAYLIGHT
BEGIN:STANDARD
TZOFFSETFROM:-0400
TZOFFSETTO:-0500
TZNAME:EST
DTSTART:20251102T060000
END:STANDARD
BEGIN:DAYLIGHT
TZOFFSETFROM:-0500
TZOFFSETTO:-0400
TZNAME:EDT
DTSTART:20260308T070000
END:DAYLIGHT
BEGIN:STANDARD
TZOFFSETFROM:-0400
TZOFFSETTO:-0500
TZNAME:EST
DTSTART:20261101T060000
END:STANDARD
BEGIN:DAYLIGHT
TZOFFSETFROM:-0500
TZOFFSETTO:-0400
TZNAME:EDT
DTSTART:20270314T070000
END:DAYLIGHT
BEGIN:STANDARD
TZOFFSETFROM:-0400
TZOFFSETTO:-0500
TZNAME:EST
DTSTART:20271107T060000
END:STANDARD
END:VTIMEZONE
BEGIN:VEVENT
DTSTART;TZID=America/Toronto:20260422T144500
DTEND;TZID=America/Toronto:20260422T170000
DTSTAMP:20260419T072318
CREATED:20260415T174210Z
LAST-MODIFIED:20260415T174405Z
UID:10000507-1776869100-1776877200@sop.utoronto.ca
SUMMARY:Weekly Ottoman Manuscript Reading Group
DESCRIPTION:Dear U of T community! \nPlease join us in our weekly Ottoman Manuscript Reading Group events. We are looking forward to welcoming new members to our team to travel across the Ottoman world and have an amazing experience with archival documents and manuscripts. \nSchedule \n15.04.2026 (14:45 – 17:00) \n22.04.2026 (14:45 – 17:00) \n29.04.2026 (14:45 – 17:00) \n06.05.2026 (14:45 – 17:00)
URL:https://sop.utoronto.ca/event/weekly-ottoman-manuscript-reading-group/
LOCATION:UC 148\, 15 King's College Circle\, Toronto\, Ontario\, M5S 3H7\, Canada
CATEGORIES:Hybrid
ORGANIZER;CN="Ottoman and%E2%80%AFPost-Ottoman%E2%80%AFStudies%E2%80%AFStudent Association at the U of T (OPSA)":MAILTO:onur.cezik@mail.utoronto.ca
END:VEVENT
BEGIN:VEVENT
DTSTART;TZID=America/Toronto:20260502T180000
DTEND;TZID=America/Toronto:20260502T200000
DTSTAMP:20260419T072318
CREATED:20260122T210533Z
LAST-MODIFIED:20260122T210534Z
UID:10000491-1777744800-1777752000@sop.utoronto.ca
SUMMARY:OWWA Water Networking Night
DESCRIPTION:Are you interested in a career as a professional or researcher in the Water Industry? The Student Chapter of the Ontario Water Works Association (OWWA) is co-hosting a networking night with our sibling chapter at York University. This is a great opportunity to network with peers interested in careers in water as well as recent alumni who already started their career journey. \nJoin us for some food\, refreshments and lots of useful networking!
URL:https://sop.utoronto.ca/event/owwa-water-networking-night/
LOCATION:OISE\, 252 Bloor St W\, Toronto\, Ontario\, M5S 1V6\, Canada
CATEGORIES:In Person On Campus
ORGANIZER;CN="Ontario Water Works Association (OWWA) %E2%80%93 Student Chapter":MAILTO:owwasc@studentorg.utoronto.ca
END:VEVENT
END:VCALENDAR