BEGIN:VCALENDAR
VERSION:2.0
PRODID:-//Student Organization Portal - ECPv6.15.20//NONSGML v1.0//EN
CALSCALE:GREGORIAN
METHOD:PUBLISH
X-ORIGINAL-URL:https://sop.utoronto.ca
X-WR-CALDESC:Events for Student Organization Portal
REFRESH-INTERVAL;VALUE=DURATION:PT1H
X-Robots-Tag:noindex
X-PUBLISHED-TTL:PT1H
BEGIN:VTIMEZONE
TZID:America/Toronto
BEGIN:DAYLIGHT
TZOFFSETFROM:-0500
TZOFFSETTO:-0400
TZNAME:EDT
DTSTART:20210314T070000
END:DAYLIGHT
BEGIN:STANDARD
TZOFFSETFROM:-0400
TZOFFSETTO:-0500
TZNAME:EST
DTSTART:20211107T060000
END:STANDARD
BEGIN:DAYLIGHT
TZOFFSETFROM:-0500
TZOFFSETTO:-0400
TZNAME:EDT
DTSTART:20220313T070000
END:DAYLIGHT
BEGIN:STANDARD
TZOFFSETFROM:-0400
TZOFFSETTO:-0500
TZNAME:EST
DTSTART:20221106T060000
END:STANDARD
BEGIN:DAYLIGHT
TZOFFSETFROM:-0500
TZOFFSETTO:-0400
TZNAME:EDT
DTSTART:20230312T070000
END:DAYLIGHT
BEGIN:STANDARD
TZOFFSETFROM:-0400
TZOFFSETTO:-0500
TZNAME:EST
DTSTART:20231105T060000
END:STANDARD
END:VTIMEZONE
BEGIN:VEVENT
DTSTART;TZID=America/Toronto:20220910T140000
DTEND;TZID=America/Toronto:20220910T150000
DTSTAMP:20260422T214109
CREATED:20220908T155502Z
LAST-MODIFIED:20220908T155503Z
UID:10000318-1662818400-1662822000@sop.utoronto.ca
SUMMARY:The Spikeball Club's First Event!
DESCRIPTION:The Spikeball Club (TSC) is meeting in Queen’s Park at the King Edward VII Equestrian Statue\, Saturday from 2-3pm to play spikeball\, socialize and have fun! This event is a great way to get active while making new friends. We’re looking forward to seeing you there! \nP.S. – We recommend wearing athletic clothes and bringing a water bottle. Club signup is optional and everyone is welcome. No experience required.
URL:https://sop.utoronto.ca/event/the-spikeball-clubs-first-event/
LOCATION:Queens Park (King Edward VII Equestrian Statue)\, Queens Park\, Toronto\, Ontario\, MJ75Q2\, Canada
CATEGORIES:In Person Off Campus
ORGANIZER;CN="The Spikeball Club":MAILTO:jack.mason@mail.utoronto.ca
END:VEVENT
BEGIN:VEVENT
DTSTART;TZID=America/Toronto:20220911T120000
DTEND;TZID=America/Toronto:20220911T130000
DTSTAMP:20260422T214109
CREATED:20220902T025628Z
LAST-MODIFIED:20220902T025629Z
UID:10000315-1662897600-1662901200@sop.utoronto.ca
SUMMARY:UTPicnic
DESCRIPTION:Come meet new friends and chat with us over Juicy Dumplings! UTPicnic returns by popular demand on Sunday\, Sept. 11th at 12 – 1 PM. See you at the Victoria College Quad. \nVegetarian options available. Food is available on a first come first serve basis. RSVP by Friday\, Sept. 9th here.
URL:https://sop.utoronto.ca/event/utpicnic/
LOCATION:Victoria College Quadrangle\, 91 Charles Street West\, Toronto\, Ontario\, M5S 1K5\, Canada
CATEGORIES:In Person On Campus
ORGANIZER;CN="University of Toronto Policython (UTP)":MAILTO:miu.hu@mail.utoronto.ca
END:VEVENT
BEGIN:VEVENT
DTSTART;TZID=America/Toronto:20220912T180000
DTEND;TZID=America/Toronto:20220912T200000
DTSTAMP:20260422T214109
CREATED:20220908T001025Z
LAST-MODIFIED:20220908T004218Z
UID:10000316-1663005600-1663012800@sop.utoronto.ca
SUMMARY:Monday Annual General Meeting
DESCRIPTION:Come join us at the BA 2175 for our ANNUAL GENERAL MEETING on either September 12th from 6-8 PM! Come meet our portfolio leads and admin team to see what we have in store for this upcoming school year. Learn how you can become involved with different projects and engage with our local community in a unique way! If you cannot attend this time\, check out or Wednesday Annual General Meeting instead. \nNote: All are welcome including non-engineering students.
URL:https://sop.utoronto.ca/event/monday-annual-general-meeting/
LOCATION:Bahen Centre for Information Technology\, Room 2175\, 40 St George St\, Toronto\, Ontario\, M5S 2E4\, Canada
CATEGORIES:In Person On Campus
ORGANIZER;CN="Engineers Without Borders":MAILTO:clara.fleisig@mail.utoronto.ca
END:VEVENT
BEGIN:VEVENT
DTSTART;TZID=America/Toronto:20220914T180000
DTEND;TZID=America/Toronto:20220914T200000
DTSTAMP:20260422T214109
CREATED:20220908T004042Z
LAST-MODIFIED:20220908T004404Z
UID:10000317-1663178400-1663185600@sop.utoronto.ca
SUMMARY:Wednesday Annual General Meeting
DESCRIPTION:Come join us at the BA 2175 for our ANNUAL GENERAL MEETING on either September 14th from 6-8 PM! Come meet our portfolio leads and admin team to see what we have in store for this upcoming school year. Learn how you can become involved with different projects and engage with our local community in a unique way! If you cannot attend this time\, check out or Monday Annual General Meeting instead. \nNote: All are welcome including non-engineering students.
URL:https://sop.utoronto.ca/event/wednesday-annualg-general-meeting/
LOCATION:Bahen Centre for Information Technology\, Room 2175\, Bahen Centre for Information Technology\, Room 2175\, 40 St George St\, Ontario\, M5S 2E4\, Canada
CATEGORIES:In Person On Campus
ORGANIZER;CN="Engineers Without Borders":MAILTO:clara.fleisig@mail.utoronto.ca
END:VEVENT
BEGIN:VEVENT
DTSTART;TZID=America/Toronto:20220914T190000
DTEND;TZID=America/Toronto:20220914T203000
DTSTAMP:20260422T214109
CREATED:20220911T040006Z
LAST-MODIFIED:20220911T040006Z
UID:10000320-1663182000-1663187400@sop.utoronto.ca
SUMMARY:SFLC Kickoff Event
DESCRIPTION:By attending the event\, you will gain key insights into our club and learn more about : \n– Becoming a general member and accessing the vast resources the club has to offer!\n– Gaining information about SFLC’s teams and our work!\n– Events we’ve had in the past\, including seminar on Credit & Debit and workshop on Budgeting 101!\n– Upcoming opportunities and other ways to get involved! \nThe event takes place at Galbraith Building room GB202 on Wednesday\, September 14\, 2022\, 7 pm EST.
URL:https://sop.utoronto.ca/event/sflc-kickoff-event/
LOCATION:Galbraith Building: GB202\, 35 St George St\, Toronto\, ON M5S 1A4\, Toronto\, Ontario\, M5S 1A4\, Canada
CATEGORIES:In Person On Campus
ORGANIZER;CN="Skule Financial Literacy Club":MAILTO:muskan.malek@mail.utoronto.ca
END:VEVENT
BEGIN:VEVENT
DTSTART;TZID=America/Toronto:20220917T110000
DTEND;TZID=America/Toronto:20220917T180000
DTSTAMP:20260422T214109
CREATED:20220909T183053Z
LAST-MODIFIED:20220909T183054Z
UID:10000319-1663412400-1663437600@sop.utoronto.ca
SUMMARY:Orientation Day 2022
DESCRIPTION:Hello and welcome to U of T! Traveling to Toronto and studying in a new environment can be challenging\, but worry no more! We will be holding an in-person orientation event for all freshmen from Hong Kong this year! We also welcome all U of T senior students as long as if you want to make some new friends and take part in thrilling orientation activities. Register for our orientation event with the link below and you might get a chance to win a mystery prize! 🌟 🎁 \n咁多位新生大家好！首先恭喜大家入讀多倫多大學，而接下來呢四年亦都會係一段新嘅旅程比大家廣闊見聞，為未來做好準備。為咗俾大家圍下爐，我哋UTHKPASS將會搞一個簡單嘅orientation day，目的都係等你哋認識下我哋之餘，又識下新朋友，我地都好歡迎所有讀緊其他學年嘅學生嫁～由於我哋搞咩活動會建基於有幾多人報名，亦都有機會贏取神秘大獎，所以如果大家有興趣嘅話就快啲去我地google form到報名啦！🙌🏻 \nEvent details:\n🗓Date: Saturday\, September 17\, 2022\n🕓Time: 11am – 6pm\n📍Location: U of T St George Campus\n💰Fee (will be collected on orientation day): $10CAD\n⏰Application Deadline: Monday\, September 12\, 2022
URL:https://sop.utoronto.ca/event/orientation-day-2022/
LOCATION:U of T St George Campus\, Queens Park\, Toronto\, Ontario\, M7A 1A2\, Canada
CATEGORIES:In Person On Campus
ORGANIZER;CN="Hong Kong Public Affairs and Social Service (UTHKPASS)":MAILTO:rae.shek@mail.utoronto.ca
END:VEVENT
BEGIN:VEVENT
DTSTART;TZID=America/Toronto:20220917T160000
DTEND;TZID=America/Toronto:20220917T190000
DTSTAMP:20260422T214109
CREATED:20220723T192336Z
LAST-MODIFIED:20220723T192336Z
UID:10000312-1663430400-1663441200@sop.utoronto.ca
SUMMARY:OLAS Welcome Picnic
DESCRIPTION:Location: Queen’s Park  \nDate & Time: Saturday\, September 17th at 4pm – 7pm.  \nThe goal of this event is to bring students together to (1) facilitate social interactions and (2) To bring awareness to OLAS St.George and. (3) To set a precedent that we will be pushing for in-person events this year. We will try to bring some snacks\, and drinks\, have our merch for sale\, and bring some sort of activities for people to play (I.E. soccer ball\, volleyball\, etc). The location will be at queen’s park. If the individual has paid for and shows their membership card\, they will receive discounts to merch.
URL:https://sop.utoronto.ca/event/olas-welcome-picnic/
LOCATION:Queen’s Park\, 110 Wellesley Street West\, Toronto\, Ontario\, M7A 1A2\, Canada
CATEGORIES:In Person Off Campus
ORGANIZER;CN="Organization of Latin American Students (OLAS)":MAILTO:mare.gonzalez@mail.utoronto.ca
END:VEVENT
BEGIN:VEVENT
DTSTART;TZID=America/Toronto:20220926T070000
DTEND;TZID=America/Toronto:20220930T000000
DTSTAMP:20260422T214109
CREATED:20220925T195323Z
LAST-MODIFIED:20220925T195324Z
UID:10000323-1664175600-1664496000@sop.utoronto.ca
SUMMARY:Donation drive
DESCRIPTION:Humanity first is hosting a donation drive on campus. We are requesting food donations\, school supplies and clothes. We will have three bins placed in front of the library at ARC- two for food\, one for clothing and school supplies. You can drop off your donations at anytime throughout the week.
URL:https://sop.utoronto.ca/event/donation-drive/
LOCATION:Infront of UTSC Library at ARC\, University of Toronto Scarborough\, 1265 military trail\, Ontario\, Scarborough\, M1C1A4\, Canada
CATEGORIES:In Person On Campus
ORGANIZER;CN="Humanity First Club %E2%80%93 University of Toronto":MAILTO:humanityfirst@studentorg.utoronto.ca
END:VEVENT
BEGIN:VEVENT
DTSTART;TZID=America/Toronto:20220927T130000
DTEND;TZID=America/Toronto:20220927T153000
DTSTAMP:20260422T214109
CREATED:20220914T044441Z
LAST-MODIFIED:20220914T044826Z
UID:10000321-1664283600-1664292600@sop.utoronto.ca
SUMMARY:Get Together-Game night
DESCRIPTION:Hello Copts in action (CIA) members. On our first event of the year\, we will get together at La prep cafe (University of Toronto Scarborough\, 1095 Military Trail\, Scarborough\, ON M1C 1A4) on Tuesday 27th at 1 pm. \nWe will eat together\, fun games and discussions (ice breakers) to get to know each other and finally we will present and share the vision of this club throughout the year. \nWe will have simple giveaways from the club as well 🙂 \nHope to see all of you there 🙂 \nFeel free to email me on jolie.mourad@hotmail.com if you have any question 🙂
URL:https://sop.utoronto.ca/event/get-together-game-night/
LOCATION:La prep\, 1095 Military Trail\, Toronto\, Ontario\, Scarborough\, ON M1C 1A4\, Canada
CATEGORIES:In Person Off Campus
ORGANIZER;CN="Copts in Action (CIA)":MAILTO:jolie.adib@mail.utoronto.ca
END:VEVENT
END:VCALENDAR