BEGIN:VCALENDAR
VERSION:2.0
PRODID:-//Student Organization Portal - ECPv6.15.20//NONSGML v1.0//EN
CALSCALE:GREGORIAN
METHOD:PUBLISH
X-ORIGINAL-URL:https://sop.utoronto.ca
X-WR-CALDESC:Events for Student Organization Portal
REFRESH-INTERVAL;VALUE=DURATION:PT1H
X-Robots-Tag:noindex
X-PUBLISHED-TTL:PT1H
BEGIN:VTIMEZONE
TZID:America/Toronto
BEGIN:DAYLIGHT
TZOFFSETFROM:-0500
TZOFFSETTO:-0400
TZNAME:EDT
DTSTART:20220313T070000
END:DAYLIGHT
BEGIN:STANDARD
TZOFFSETFROM:-0400
TZOFFSETTO:-0500
TZNAME:EST
DTSTART:20221106T060000
END:STANDARD
BEGIN:DAYLIGHT
TZOFFSETFROM:-0500
TZOFFSETTO:-0400
TZNAME:EDT
DTSTART:20230312T070000
END:DAYLIGHT
BEGIN:STANDARD
TZOFFSETFROM:-0400
TZOFFSETTO:-0500
TZNAME:EST
DTSTART:20231105T060000
END:STANDARD
BEGIN:DAYLIGHT
TZOFFSETFROM:-0500
TZOFFSETTO:-0400
TZNAME:EDT
DTSTART:20240310T070000
END:DAYLIGHT
BEGIN:STANDARD
TZOFFSETFROM:-0400
TZOFFSETTO:-0500
TZNAME:EST
DTSTART:20241103T060000
END:STANDARD
BEGIN:DAYLIGHT
TZOFFSETFROM:-0500
TZOFFSETTO:-0400
TZNAME:EDT
DTSTART:20250309T070000
END:DAYLIGHT
BEGIN:STANDARD
TZOFFSETFROM:-0400
TZOFFSETTO:-0500
TZNAME:EST
DTSTART:20251102T060000
END:STANDARD
END:VTIMEZONE
BEGIN:VEVENT
DTSTART;TZID=America/Toronto:20230101T160000
DTEND;TZID=America/Toronto:20240929T210000
DTSTAMP:20260422T135315
CREATED:20230730T175758Z
LAST-MODIFIED:20230730T175758Z
UID:10000277-1672588800-1727643600@sop.utoronto.ca
SUMMARY:Movie Screening
DESCRIPTION:We gather every Sunday at 4 pm to watch a movie chosen by the winner proposal the group members get to vote for.\nThe location is the OISE Building\, 252 Bloor Street West\, Fifth floor\, room 5260. \nJust to let you know\, the room may change due to building closure or other University of Toronto changes. We inform the changes via the email you will receive each week. You can send an email to the club email and ask to be added to the member’s list to receive information weekly. \nnamanacinema@gmail.com
URL:https://sop.utoronto.ca/event/movie-screening/
LOCATION:OISE building\, apt 2\, 472 Dupont Street.\, toronto\, Ontario\, M5R1w6\, Canada
CATEGORIES:Hybrid
ORGANIZER;CN="NamanaCinema":MAILTO:pershang.salehy@mail.utoronto.ca
END:VEVENT
BEGIN:VEVENT
DTSTART;TZID=America/Toronto:20230403T190000
DTEND;TZID=America/Toronto:20230403T210000
DTSTAMP:20260422T135315
CREATED:20240331T164205Z
LAST-MODIFIED:20240331T164206Z
UID:10000409-1680548400-1680555600@sop.utoronto.ca
SUMMARY:UTSC Improv Show
DESCRIPTION:UTSC Improv is performing their award winning comedic sketch show as well as improv games on April 3rd\, at 7pm! Don’t miss out on a night of comedy and audience participation! The event will be held in the theatre (Leigha Lee Browne Theatre).
URL:https://sop.utoronto.ca/event/utsc-improv-show/
LOCATION:LLBT – Leigha Lee Browne Theatre\, 1265 Military Trail\, Scarborough\, Ontario\, M1C 1A4\, Canada
CATEGORIES:In Person On Campus
ORGANIZER;CN="UTSC Improv Student Group (UTSCI)":MAILTO:eeman.chaudhry@mail.utoronto.ca
END:VEVENT
BEGIN:VEVENT
DTSTART;TZID=America/Toronto:20230403T190000
DTEND;TZID=America/Toronto:20230403T223000
DTSTAMP:20260422T135315
CREATED:20230328T022933Z
LAST-MODIFIED:20230328T022936Z
UID:10000363-1680548400-1680561000@sop.utoronto.ca
SUMMARY:Onion Club Charity Formal
DESCRIPTION:Come celebrate the end of yet another year with us! Live band\, snacks and cash bar. Profit goes to Jack.org  \nVelut Cepa Ævo! \nTickets are $45 \nTaking place in the Debates Room (second floor) of Hart House\, with the Sean Stanley Trio playing the night away. As this is a formal event\, formal attire is expected. Please wear your finest!
URL:https://sop.utoronto.ca/event/onion-club-charity-formal/
LOCATION:Debates Room – Hart House\, 7 Hart House Circle\, Toronto\, Ontario\, M5S 3H3\, Canada
CATEGORIES:In Person On Campus
ORGANIZER;CN="Onion Club":MAILTO:rachael.krestick@mail.utoronto.ca
END:VEVENT
BEGIN:VEVENT
DTSTART;TZID=America/Toronto:20230404T180000
DTEND;TZID=America/Toronto:20230404T200000
DTSTAMP:20260422T135315
CREATED:20230322T181745Z
LAST-MODIFIED:20230322T181746Z
UID:10000362-1680631200-1680638400@sop.utoronto.ca
SUMMARY:Interfaith Symposium: God - Fact or Fiction?
DESCRIPTION:Join us for a captivating exploration of the age-old question “God: Fact or Fiction?” followed by Q&A. Free admission & refreshments.
URL:https://sop.utoronto.ca/event/interfaith-symposium-god-fact-or-fiction/
LOCATION:UTM Room in Davis\, 3359 Mississauga Road\, Mississauga\, Ontario\, L5L 1C6\, Canada
CATEGORIES:In Person On Campus
ORGANIZER;CN="Ahmadiyya Muslim Student Association (AMSA)":MAILTO:amsa@studentorg.utoronto.ca
END:VEVENT
BEGIN:VEVENT
DTSTART;TZID=America/Toronto:20230406T170000
DTEND;TZID=America/Toronto:20230406T190000
DTSTAMP:20260422T135315
CREATED:20230404T154547Z
LAST-MODIFIED:20230404T154547Z
UID:10000364-1680800400-1680807600@sop.utoronto.ca
SUMMARY:NROB61 Final Review Session
DESCRIPTION:The NROB61 final exam is on April 24th! Get ready to ace it with SYNAPSE 🙂
URL:https://sop.utoronto.ca/event/nrob61-final-review-session/
LOCATION:HW-402\, 1265 Military Trail\, Toronto\, Ontario\, M1C 1A4\, Canada
CATEGORIES:In Person On Campus
ORGANIZER;CN="Synapse%3A Transmitting Awareness in Neuropathology (SYNAPSE)":MAILTO:synapse@studentorg.utoronto.ca
END:VEVENT
BEGIN:VEVENT
DTSTART;TZID=America/Toronto:20230406T190000
DTEND;TZID=America/Toronto:20230407T010000
DTSTAMP:20260422T135315
CREATED:20230313T013909Z
LAST-MODIFIED:20230313T013909Z
UID:10000274-1680807600-1680829200@sop.utoronto.ca
SUMMARY:10th Annual ICCIT Gala: Solaris
DESCRIPTION:End the school year with a memorable celebration filled with music\, a buffet\, and an open bar. Open to all University of Toronto Students – plus ones from outside welcome! \n🎫 Regular Ticket: $65\, Late: $75\n🗓️April 6 (7pm-1am) \n💸When you purchase a ticket\, get amazing discounts: \n– 3 FREE TRIALS @ www.musclemachine.net\n– 10% off all products @studio_twobytwo\n– 10% of all products @pretty2k_studio
URL:https://sop.utoronto.ca/event/10th-annual-iccit-gala-solaris/
LOCATION:Red Rose Convention Center\, 1233 Derry Road East\, Mississauga\, Ontario\, L5T 1B6\, Canada
CATEGORIES:In Person Off Campus
ORGANIZER;CN="ICCIT Council":MAILTO:jemmahyejun.jeong@mail.utoronto.ca
END:VEVENT
BEGIN:VEVENT
DTSTART;TZID=America/Toronto:20230430T190000
DTEND;TZID=America/Toronto:20230430T220000
DTSTAMP:20260422T135315
CREATED:20230426T012710Z
LAST-MODIFIED:20230426T012710Z
UID:10000365-1682881200-1682892000@sop.utoronto.ca
SUMMARY:Final exam night
DESCRIPTION:Have fun after exam
URL:https://sop.utoronto.ca/event/final-exam-night/
LOCATION:Home party\, 100 Mornelle Crt\, Scarborough\, Ontario\, M1E4X2\, Canada
CATEGORIES:In Person Off Campus
ORGANIZER;CN="North American Chinese Social Club":MAILTO:xigyuan.wu@mail.utoronto.ca
END:VEVENT
END:VCALENDAR