BEGIN:VCALENDAR
VERSION:2.0
PRODID:-//Student Organization Portal - ECPv6.15.20//NONSGML v1.0//EN
CALSCALE:GREGORIAN
METHOD:PUBLISH
X-ORIGINAL-URL:https://sop.utoronto.ca
X-WR-CALDESC:Events for Student Organization Portal
REFRESH-INTERVAL;VALUE=DURATION:PT1H
X-Robots-Tag:noindex
X-PUBLISHED-TTL:PT1H
BEGIN:VTIMEZONE
TZID:America/Toronto
BEGIN:DAYLIGHT
TZOFFSETFROM:-0500
TZOFFSETTO:-0400
TZNAME:EDT
DTSTART:20220313T070000
END:DAYLIGHT
BEGIN:STANDARD
TZOFFSETFROM:-0400
TZOFFSETTO:-0500
TZNAME:EST
DTSTART:20221106T060000
END:STANDARD
BEGIN:DAYLIGHT
TZOFFSETFROM:-0500
TZOFFSETTO:-0400
TZNAME:EDT
DTSTART:20230312T070000
END:DAYLIGHT
BEGIN:STANDARD
TZOFFSETFROM:-0400
TZOFFSETTO:-0500
TZNAME:EST
DTSTART:20231105T060000
END:STANDARD
BEGIN:DAYLIGHT
TZOFFSETFROM:-0500
TZOFFSETTO:-0400
TZNAME:EDT
DTSTART:20240310T070000
END:DAYLIGHT
BEGIN:STANDARD
TZOFFSETFROM:-0400
TZOFFSETTO:-0500
TZNAME:EST
DTSTART:20241103T060000
END:STANDARD
BEGIN:DAYLIGHT
TZOFFSETFROM:-0500
TZOFFSETTO:-0400
TZNAME:EDT
DTSTART:20250309T070000
END:DAYLIGHT
BEGIN:STANDARD
TZOFFSETFROM:-0400
TZOFFSETTO:-0500
TZNAME:EST
DTSTART:20251102T060000
END:STANDARD
END:VTIMEZONE
BEGIN:VEVENT
DTSTART;TZID=America/Toronto:20230101T160000
DTEND;TZID=America/Toronto:20240929T210000
DTSTAMP:20260422T192912
CREATED:20230730T175758Z
LAST-MODIFIED:20230730T175758Z
UID:10000277-1672588800-1727643600@sop.utoronto.ca
SUMMARY:Movie Screening
DESCRIPTION:We gather every Sunday at 4 pm to watch a movie chosen by the winner proposal the group members get to vote for.\nThe location is the OISE Building\, 252 Bloor Street West\, Fifth floor\, room 5260. \nJust to let you know\, the room may change due to building closure or other University of Toronto changes. We inform the changes via the email you will receive each week. You can send an email to the club email and ask to be added to the member’s list to receive information weekly. \nnamanacinema@gmail.com
URL:https://sop.utoronto.ca/event/movie-screening/
LOCATION:OISE building\, apt 2\, 472 Dupont Street.\, toronto\, Ontario\, M5R1w6\, Canada
CATEGORIES:Hybrid
ORGANIZER;CN="NamanaCinema":MAILTO:pershang.salehy@mail.utoronto.ca
END:VEVENT
BEGIN:VEVENT
DTSTART;TZID=America/Toronto:20231003T180000
DTEND;TZID=America/Toronto:20231003T200000
DTSTAMP:20260422T192912
CREATED:20230920T002538Z
LAST-MODIFIED:20230920T002538Z
UID:10000379-1696356000-1696363200@sop.utoronto.ca
SUMMARY:Power To Connect
DESCRIPTION:Networking Workshop and Recruiter Roundtable Chats
URL:https://sop.utoronto.ca/event/power-to-connect/
LOCATION:IC Atrium\, 1295 Military Trail\, Toronto\, Ontario\, M1C 1A5\, Canada
CATEGORIES:In Person On Campus
ORGANIZER;CN="Management Consulting Group":MAILTO:rachelxy.wang@mail.utoronto.ca
END:VEVENT
BEGIN:VEVENT
DTSTART;TZID=America/Toronto:20231004T160000
DTEND;TZID=America/Toronto:20231004T180000
DTSTAMP:20260422T192912
CREATED:20231001T165351Z
LAST-MODIFIED:20231001T165352Z
UID:10000387-1696435200-1696442400@sop.utoronto.ca
SUMMARY:Painting And Potting Succulents Night
DESCRIPTION:what to expect: \n\nPainting pots for your succulents\nplanting your succulent\nsnacks!!\n\nCome meet the TFFOF execs and other members who share your passions and interests!
URL:https://sop.utoronto.ca/event/painting-and-potting-succulents-night/
LOCATION:OISE Room C154\, 252 Bloor Street West\, Toronto\, Ontario\, M5S 1V6\, Canada
CATEGORIES:In Person On Campus
ORGANIZER;CN="Formula For Our Future (TFFOF)":MAILTO:eryn.mcdevitt@mail.utoronto.ca
END:VEVENT
BEGIN:VEVENT
DTSTART;TZID=America/Toronto:20231004T190000
DTEND;TZID=America/Toronto:20231004T210000
DTSTAMP:20260422T192912
CREATED:20231004T165154Z
LAST-MODIFIED:20231004T165154Z
UID:10000388-1696446000-1696453200@sop.utoronto.ca
SUMMARY:Socialist Action Club Meeting
DESCRIPTION:Learn more about Socialist Action U of T Club! We will be discussing the Cuban Revolution today in OISE room 2-289 from 7pm to 9pm.
URL:https://sop.utoronto.ca/event/socialist-action-club-meeting-2/
LOCATION:OISE Room 2-289\, 252 Bloor Street West\, Toronto\, Ontario\, M5S 1V6\, Canada
CATEGORIES:In Person On Campus
ORGANIZER;CN="Socialist Action":MAILTO:wb.mcmurtry@mail.utoronto.ca
END:VEVENT
BEGIN:VEVENT
DTSTART;TZID=America/Toronto:20231010T180000
DTEND;TZID=America/Toronto:20231010T200000
DTSTAMP:20260422T192912
CREATED:20230929T210416Z
LAST-MODIFIED:20230929T210416Z
UID:10000385-1696960800-1696968000@sop.utoronto.ca
SUMMARY:Culturefest in Collaboration with TSA!
DESCRIPTION:Get ready to embark on an exhilarating journey through cultures and traditions at our collaborative event\, brought to you by Afghan Students’ Association and the vibrant Tamil Students’ Association\, along with a host of other electrifying South Asian student groups! \nPicture a night undulating with the colors and sounds of richly diverse South Asian cultures\, nestled right in the heart of Toronto. This is more than just an event – it’s a two-hour voyage set aglow by the shared stories\, laughter\, and camaraderie of different communities coming together. \nJoin us in at OISE Building from 6:00 pm to 8:00 pm in rms 5170 & 5190 on October 10th. Taste eclectic foods\, each bite a symphony of flavors that narrate tales from afar. Engage in playful cultural games and activities that are as educational as they are exciting. Brace yourself for the highlight of the night – fantastic performances celebrating the art and music of our rich cultural tapestry. \nThis gathering is absolutely FREE to attend. For a night of unity\, vibrancy\, and cultural immersion be sure to bring your friends and join us! \nIn the spirit of celebrating our collective diversity\, we encourage all attendees to come adorned in their cultural wear. Showcase your unique heritage\, flaunt your vibrant colors\, and strut to the symphony East-meets-West multicultural drumbeat! \nSo\, mark your calendars\, gather your posse\, and gear up to dive into an ocean of cultural wonders. Trust us when we say\, it’s going to be an unforgettable night of joy\, culture\, and shared stories. \nBut hey\, don’t just take our word for it. Come and experience it for yourself. Who knows what cultural treasures you might unearth at this event? The only way to find out is to join us on this vibrant voyage. Your international escapade awaits…
URL:https://sop.utoronto.ca/event/culturefest-in-collaboration-with-tsa/
LOCATION:OISE Building\, 252 Bloor Street West\, Toronto\, Ontario\, M5S 1V6\, Canada
CATEGORIES:In Person On Campus
ORGANIZER;CN="Afghan Students%E2%80%99 Association":MAILTO:y.jamasi@mail.utoronto.ca
END:VEVENT
BEGIN:VEVENT
DTSTART;TZID=America/Toronto:20231013T140000
DTEND;TZID=America/Toronto:20231013T150000
DTSTAMP:20260422T192912
CREATED:20231004T160811Z
LAST-MODIFIED:20231004T160811Z
UID:10000386-1697205600-1697209200@sop.utoronto.ca
SUMMARY:October General Meeting
DESCRIPTION:Don’t miss our October General Meeting where you can meet the USAS execs and enjoy free food while voicing your thoughts and concerns about CSUS and USAS. \nJoin us in the American Studies Lounge\, located in Room 023N at 1 Devonshire Pl.
URL:https://sop.utoronto.ca/event/october-general-meeting/
LOCATION:Munk School of Global Affairs & Public Policy\, 1 Devonshire Place\, Toronto\, Ontario\, M5S 3K7\, Canada
CATEGORIES:In Person On Campus
ORGANIZER;CN="Undergraduate Society of American Studies":MAILTO:rosemary.crowley@mail.utoronto.ca
END:VEVENT
BEGIN:VEVENT
DTSTART;TZID=America/Toronto:20231018T160000
DTEND;TZID=America/Toronto:20231018T180000
DTSTAMP:20260422T192912
CREATED:20231017T190050Z
LAST-MODIFIED:20231017T190050Z
UID:10000297-1697644800-1697652000@sop.utoronto.ca
SUMMARY:Our Mission: Fighting Food Insecurity
DESCRIPTION:Learn about Food Insecurity in Scarborough\, resources for combatting food insecurity in Scarborough\, in UTSC\, and how to maintain a healthy diet as a student in university. For the 2nd hour\, we will be playing games and hosting a Mix and Mingle with the other students present.
URL:https://sop.utoronto.ca/event/our-mission-fighting-food-insecurity/
LOCATION:1265 Bistro inside Student Centre\, 1265 Military Trail\, Toronto\, Ontario\, M1C 1A4\, Canada
CATEGORIES:In Person On Campus
ORGANIZER;CN="UTSC Charity Fashion Show Club":MAILTO:faith.chhoyang@mail.utoronto.ca
END:VEVENT
BEGIN:VEVENT
DTSTART;TZID=America/Toronto:20231019T100000
DTEND;TZID=America/Toronto:20231019T160000
DTSTAMP:20260422T192912
CREATED:20230924T000200Z
LAST-MODIFIED:20230924T000200Z
UID:10000382-1697709600-1697731200@sop.utoronto.ca
SUMMARY:Mobile Clinic
DESCRIPTION:The primary objective of this mobile clinic is to receive blood/plasma donations from UTM members who weren’t able to donate previously. By setting up this event\, we hope to create an environment that encourages community engagement.
URL:https://sop.utoronto.ca/event/mobile-clinic/
LOCATION:University of Toronto Mississauga campus\, 3359 Mississauga Road\, Mississauga\, Ontario\, L5L 1C6\, Canada
CATEGORIES:In Person On Campus
ORGANIZER;CN="UTM NextGen Lifeline":MAILTO:heeji.kim@mail.utoronto.ca
END:VEVENT
BEGIN:VEVENT
DTSTART;TZID=America/Toronto:20231027T130000
DTEND;TZID=America/Toronto:20231027T150100
DTSTAMP:20260422T192912
CREATED:20231023T215009Z
LAST-MODIFIED:20231023T215010Z
UID:10000300-1698411600-1698418860@sop.utoronto.ca
SUMMARY:Safety and Walkability in Cities
DESCRIPTION:Join MPP Joel Harden\, the UTM Urbanism club\, and us in an event about public transportation\, road safety for pedestrians and bikes\, and making cities more livable. This great opportunity will be happening from 1-3 pm on Friday the 27th at IB140.
URL:https://sop.utoronto.ca/event/safety-and-walkability-in-cities/
LOCATION:UTM\, 1599 Outer Circle\, Mississauga\, Ontario\, L5L 1J7\, Canada
CATEGORIES:Hybrid
ORGANIZER;CN="UTM New Democratic Party (UTM NDP)":MAILTO:blake.douglas@mail.utoronto.ca
END:VEVENT
BEGIN:VEVENT
DTSTART;TZID=America/Toronto:20231027T170000
DTEND;TZID=America/Toronto:20231027T190000
DTSTAMP:20260422T192912
CREATED:20231016T182432Z
LAST-MODIFIED:20231016T182432Z
UID:10000296-1698426000-1698433200@sop.utoronto.ca
SUMMARY:Balkan Students' Association First General Meeting
DESCRIPTION:Hello! You’re invited to the first Balkan Students’ Association General Meeting! This is a club meeting for all Balkan students\, as well as those interested in Balkan culture! Those from similar ethnicities\, such as Russian\, Turkish\, Slavic or Caucasus regions are more than welcome too! We will be discussing the events our club plans to take part of throughout the year. Students from all 3 campuses are welcome. There will be dinner provided! \nIf you would like to attend\, please sign up through the link attached!
URL:https://sop.utoronto.ca/event/balkan-students-association-first-general-meeting/
LOCATION:MW-264\, 1265 Military Trail\, Toronto\, Ontario\, M1C 1A4\, Canada
CATEGORIES:In Person On Campus
ORGANIZER;CN="Balkan Students%E2%80%99 Association (UTSC BSA)":MAILTO:maya.spinoti@mail.utoronto.ca
END:VEVENT
END:VCALENDAR