BEGIN:VCALENDAR
VERSION:2.0
PRODID:-//Student Organization Portal - ECPv6.15.20//NONSGML v1.0//EN
CALSCALE:GREGORIAN
METHOD:PUBLISH
X-ORIGINAL-URL:https://sop.utoronto.ca
X-WR-CALDESC:Events for Student Organization Portal
REFRESH-INTERVAL;VALUE=DURATION:PT1H
X-Robots-Tag:noindex
X-PUBLISHED-TTL:PT1H
BEGIN:VTIMEZONE
TZID:America/Toronto
BEGIN:DAYLIGHT
TZOFFSETFROM:-0500
TZOFFSETTO:-0400
TZNAME:EDT
DTSTART:20230312T070000
END:DAYLIGHT
BEGIN:STANDARD
TZOFFSETFROM:-0400
TZOFFSETTO:-0500
TZNAME:EST
DTSTART:20231105T060000
END:STANDARD
BEGIN:DAYLIGHT
TZOFFSETFROM:-0500
TZOFFSETTO:-0400
TZNAME:EDT
DTSTART:20240310T070000
END:DAYLIGHT
BEGIN:STANDARD
TZOFFSETFROM:-0400
TZOFFSETTO:-0500
TZNAME:EST
DTSTART:20241103T060000
END:STANDARD
BEGIN:DAYLIGHT
TZOFFSETFROM:-0500
TZOFFSETTO:-0400
TZNAME:EDT
DTSTART:20250309T070000
END:DAYLIGHT
BEGIN:STANDARD
TZOFFSETFROM:-0400
TZOFFSETTO:-0500
TZNAME:EST
DTSTART:20251102T060000
END:STANDARD
END:VTIMEZONE
BEGIN:VEVENT
DTSTART;TZID=America/Toronto:20241002T130000
DTEND;TZID=America/Toronto:20241002T150000
DTSTAMP:20260422T155400
CREATED:20240925T202858Z
LAST-MODIFIED:20240925T202858Z
UID:10000436-1727874000-1727881200@sop.utoronto.ca
SUMMARY:Pen Pals for a Day: Bring Joy to Seniors
DESCRIPTION:Write a card to a senior to bring them joy and company! Bring your friends\, enjoy some snacks and write a card to spread smiles ◡̈
URL:https://sop.utoronto.ca/event/pen-pals-for-a-day-bring-joy-to-seniors/
LOCATION:Student Commons – 5th Floor Lounge Room\, 230 College Street\, Toronto\, Ontario\, M5T 1R2\, Canada
CATEGORIES:In Person On Campus
ORGANIZER;CN="Glamour Gals &#8211%3B University of Toronto Student Chapter (GGUofT)":MAILTO:diyora.normukhamedova@mail.utoronto.ca
END:VEVENT
BEGIN:VEVENT
DTSTART;TZID=America/Toronto:20241002T160000
DTEND;TZID=America/Toronto:20241002T173000
DTSTAMP:20260422T155400
CREATED:20240925T230132Z
LAST-MODIFIED:20240925T230133Z
UID:10000437-1727884800-1727890200@sop.utoronto.ca
SUMMARY:Meeting with Consul General of Ukraine in Toronto Oleh Nikolenko
DESCRIPTION:Please join us for an insightful discussion with the consul general of Ukraine in Toronto\, Oleh Nikolenko! Event will be held predominantly in Ukrainian. \nSign-up link: \nhttps://docs.google.com/forms/d/e/1FAIpQLScYKmWc-1UvvHVPHvRJs3zvjK6vOnF7DxJwtBcdkjuflUD-pw/viewform?usp=sf_link \n 
URL:https://sop.utoronto.ca/event/meeting-with-consul-general-of-ukraine-in-toronto-oleh-nikolenko/
LOCATION:St. Volodymyr Institute\, 620 Spadina Avenue\, Toronto\, Ontario\, M5S 2H4\, Canada
CATEGORIES:In Person On Campus
ORGANIZER;CN="Ukrainian Students%E2%80%99 Club":MAILTO:alex.zamer@mail.utoronto.ca
END:VEVENT
BEGIN:VEVENT
DTSTART;TZID=America/Toronto:20241004T120000
DTEND;TZID=America/Toronto:20241004T140000
DTSTAMP:20260422T155400
CREATED:20241025T213341Z
LAST-MODIFIED:20241025T213343Z
UID:10000446-1728043200-1728050400@sop.utoronto.ca
SUMMARY:Self Tape Showreel Studio
DESCRIPTION:amera\, Stage\, Lights: Prepare a 1-5 minute monologue of your choice. UTC does not provide any props or costumes. Each student is allowed 20 minutes on the stage\, including prep and wrap up time. Your performance will be recorded using a professional camera and shared with you in a timely matter. Recommendation: Choose a lively\, contemporary monologue and project your voice. Focus on facial and body movements\, make eye contact with the audience (camera). Take up the space on the stage and use different levels. Avoid using costumes and props that may distract casting agents from your performance. Rehearse as much as possible\, step on the stage as prepared as possible. Remember\, as an actor\, you may not get a chance of “retakes” or calling line while on stage. If you have further questions/concerns of accessibility needs please email us. Good luck\, see you on November 4th. Due to limited availability\, we are able to work with the first 6 students who arrive on site with a prepared monologue.\nAre dual dialogues allowed? Yes. You may prepare a scene with a peer\, however you will still have 20 minutes on the stage.
URL:https://sop.utoronto.ca/event/self-tape-showreel-studio/
LOCATION:Cat’e Eye\, 150 Charles St W\, Toronto\, Ontario\, ON M5S 1K6\, Canada
CATEGORIES:In Person On Campus
ORGANIZER;CN="University of Toronto Students Theatre Company (UTC)":MAILTO:uoft.theatre@studentorg.utoronto.ca
END:VEVENT
BEGIN:VEVENT
DTSTART;TZID=America/Toronto:20241008T170000
DTEND;TZID=America/Toronto:20241008T190000
DTSTAMP:20260422T155400
CREATED:20241001T214348Z
LAST-MODIFIED:20241001T214348Z
UID:10000438-1728406800-1728414000@sop.utoronto.ca
SUMMARY:Departmental Student Mixer
DESCRIPTION:Come join the department of health and society’s student association\, for our annual student mixer! This event is aimed at all students planning on or are currently enrolled in a program in the department of health and society (paramedicine\, health humanities\, health policy and population health)! \nThis event will have numerous activities available to students to make connections with others\, network and get to know more about the health studies program in general. Refreshments will be offered!
URL:https://sop.utoronto.ca/event/departmental-student-mixer/
LOCATION:TBD\, 1265 Military Trail\, Toronto\, Ontario\, M1C 1A4\, Canada
CATEGORIES:In Person On Campus
ORGANIZER;CN="Health and Society Students%E2%80%99 Association":MAILTO:amrita.rampersaud@mail.utoronto.ca
END:VEVENT
BEGIN:VEVENT
DTSTART;TZID=America/Toronto:20241016T130000
DTEND;TZID=America/Toronto:20241016T160000
DTSTAMP:20260422T155400
CREATED:20241016T171645Z
LAST-MODIFIED:20241016T171645Z
UID:10000442-1729083600-1729094400@sop.utoronto.ca
SUMMARY:NewPRIDE Drop-In Study Sessions
DESCRIPTION:Looking for a peaceful space to feel motivated and productive? Join us for our weekly drop-in study sessions! \n  \nMeet us every Wednesday from 1:00 PM – 4:00 PM at WI 2007D* \n  \n*The directions are posted on our Instagram highlights!
URL:https://sop.utoronto.ca/event/newpride-drop-in-study-sessions/
LOCATION:WI 2007D\, 40 Willcocks Street\, Toronto\, Ontario\, M5S 1C6\, Canada
CATEGORIES:In Person On Campus
ORGANIZER;CN="NewPRIDE":MAILTO:margaux.bagtas@mail.utoronto.ca
END:VEVENT
BEGIN:VEVENT
DTSTART;TZID=America/Toronto:20241018T170000
DTEND;TZID=America/Toronto:20241018T200000
DTSTAMP:20260422T155400
CREATED:20241011T011929Z
LAST-MODIFIED:20241011T011929Z
UID:10000439-1729270800-1729281600@sop.utoronto.ca
SUMMARY:Chai to Survive: A Murder Mystery Game Night!
DESCRIPTION:Join us for Chai to Survive\, an interactive murder mystery event where you’ll sip chai\, solve clues\, and unravel a thrilling whodunit! Gather your friends\, sign up\, and put your detective skills to the test as you race to uncover the mystery. Will you survive the night\, or become the next victim? Don’t miss out on this fun\, immersive experience—spots are limited\, so sign up now! \n  \n  \nLINK TO SIGN UP: https://forms.gle/3nvQ2cbEf5w5p3sZ6 \n  \n@asauoft on IG \n 
URL:https://sop.utoronto.ca/event/chai-to-survive-a-murder-mystery-game-night/
LOCATION:Ontario Institute for Studies in Education\, 252 Bloor Street West\, Toronto\, Ontario\, M5S 1V6\, Canada
CATEGORIES:In Person On Campus
ORGANIZER;CN="Afghan Students%E2%80%99 Association":MAILTO:Y.jamasi@mail.utoronto.ca
END:VEVENT
BEGIN:VEVENT
DTSTART;TZID=America/Toronto:20241023T130000
DTEND;TZID=America/Toronto:20241023T160000
DTSTAMP:20260422T155400
CREATED:20241016T174306Z
LAST-MODIFIED:20241016T174307Z
UID:10000443-1729688400-1729699200@sop.utoronto.ca
SUMMARY:NewPRIDE Drop-In Study Sessions
DESCRIPTION:Looking for a peaceful space to feel motivated and productive? Join us for our weekly drop-in study sessions! Light refreshments will be offered! \n  \nMeet us every Wednesday from 1:00 PM – 4:00 PM at WI 2007D* \n  \n*The directions are posted on our Instagram highlights!
URL:https://sop.utoronto.ca/event/newpride-drop-in-study-sessions-2/
LOCATION:WI 2007D\, 40 Willcocks Street\, Toronto\, Ontario\, M5S 1C6\, Canada
CATEGORIES:In Person On Campus
ORGANIZER;CN="NewPRIDE":MAILTO:margaux.bagtas@mail.utoronto.ca
END:VEVENT
BEGIN:VEVENT
DTSTART;TZID=America/Toronto:20241024T150000
DTEND;TZID=America/Toronto:20241024T170000
DTSTAMP:20260422T155400
CREATED:20241013T211031Z
LAST-MODIFIED:20241013T211032Z
UID:10000440-1729782000-1729789200@sop.utoronto.ca
SUMMARY:your pathway to thriving at UofT: heath and wellness event
DESCRIPTION:📢 Exciting News\, UofT Students!\nJoin us on October 24th from 3 PM – 5 PM for our Health & Wellness event: Your Pathway to Thriving at UofT 🧠🌿.\nWe’ve got an amazing lineup of speakers\, including: ✨ Kathrine from the UHIP office – She’ll be sharing all the essentials about student insurance and answering your questions. ✨ Senior students with tips on mental health\, dental care\, and how to navigate both self-care and seeking medical help. ✨ A special guest – a former UofT doctoral student in biology – sharing his academic journey and success strategies.\nAlso\, Helen Cao\, the director of CNIW\, will share the volunteer and job opportunities on health area.\n🎁 Plus\, enjoy FREE pizza\, candy\, drinks\, and the chance to win awesome prizes for three lucky attendees!\nDon’t miss out on this opportunity to learn\, connect\, and take care of yourself! See you there! 💙
URL:https://sop.utoronto.ca/event/your-pathway-to-thriving-at-uoft-heath-and-wellness-event/
LOCATION:Factor Inwentash Faculty of Social Work 702\, 246 Bloor Street West\, Toronto\, Ontario\, M5S 1V4\, Canada
CATEGORIES:In Person On Campus
ORGANIZER;CN="Center for New Immigrant Well-Being (CNIW) %E2%80%93 University of Toronto Student Chapter":MAILTO:yang.lou@mail.utoronto.ca
END:VEVENT
BEGIN:VEVENT
DTSTART;TZID=America/Toronto:20241024T153000
DTEND;TZID=America/Toronto:20241024T193000
DTSTAMP:20260422T155400
CREATED:20241022T211427Z
LAST-MODIFIED:20241022T211428Z
UID:10000445-1729783800-1729798200@sop.utoronto.ca
SUMMARY:Chai & Study - Charity Week
DESCRIPTION:Looking for the perfect balance between productivity and giving back? 🎉 Join the Afghan Student Association for Chai & Study this Thursday\, October 24th\, 2024 from 3:30 – 7:30 PM in SL222\, 2nd Floor of the Student Centre! ☕📚 \nEnjoy a cozy study session with fellow students while sipping on some delicious chai. PLUS\, don’t miss out on our exciting raffle—$5 per ticket with amazing prizes up for grabs! All proceeds go to charity\, so you’ll be learning and making a difference. 🌟 \nCome for the chai\, stay for the study vibes\, and leave with the satisfaction of supporting a good cause. Let’s sip\, learn\, and support together! \nSign up Here: https://forms.gle/1gbSG7TvVw2ZaiUP9
URL:https://sop.utoronto.ca/event/chai-study-charity-week/
LOCATION:SL 222 – University of Toronto Student Centre 2nd floor.\, 1265 Military Trail\, Toronto\, Ontario\, M1C 1A4\, Canada
CATEGORIES:In Person On Campus
ORGANIZER;CN="Afghan Student%E2%80%99s Association":MAILTO:masoud.farkhari@mail.utoronto.ca
END:VEVENT
BEGIN:VEVENT
DTSTART;TZID=America/Toronto:20241029T190000
DTEND;TZID=America/Toronto:20241029T210000
DTSTAMP:20260422T155401
CREATED:20241022T164119Z
LAST-MODIFIED:20241022T164119Z
UID:10000444-1730228400-1730235600@sop.utoronto.ca
SUMMARY:Communist Social
DESCRIPTION:The Communists are at UTSC! \nWe’re holding a social on Tuesday Oct 29th at 7pm at Zak’s Bar and Grill. If you are trembling with indignation at the unprecedented injustices being committed\, come out to learn about how we can fight back! \nWe’ll be chatting about the Student Strike 4 Palestine campaign and organizing at UTSC and in Scarborough
URL:https://sop.utoronto.ca/event/communist-social/
LOCATION:Zak’s Bar and Grill\, 790 Military Trail\, Scarborough\, 790 Military Trail\, Toronto\, Ontario\, M1E 5K4\, Canada
CATEGORIES:In Person Off Campus
ORGANIZER;CN="Socialist Reading Group":MAILTO:Layla.mondol@mail.utoronto.ca
END:VEVENT
END:VCALENDAR