BEGIN:VCALENDAR
VERSION:2.0
PRODID:-//Student Organization Portal - ECPv6.15.20//NONSGML v1.0//EN
CALSCALE:GREGORIAN
METHOD:PUBLISH
X-WR-CALNAME:Student Organization Portal
X-ORIGINAL-URL:https://sop.utoronto.ca
X-WR-CALDESC:Events for Student Organization Portal
REFRESH-INTERVAL;VALUE=DURATION:PT1H
X-Robots-Tag:noindex
X-PUBLISHED-TTL:PT1H
BEGIN:VTIMEZONE
TZID:America/Toronto
BEGIN:DAYLIGHT
TZOFFSETFROM:-0500
TZOFFSETTO:-0400
TZNAME:EDT
DTSTART:20240310T070000
END:DAYLIGHT
BEGIN:STANDARD
TZOFFSETFROM:-0400
TZOFFSETTO:-0500
TZNAME:EST
DTSTART:20241103T060000
END:STANDARD
BEGIN:DAYLIGHT
TZOFFSETFROM:-0500
TZOFFSETTO:-0400
TZNAME:EDT
DTSTART:20250309T070000
END:DAYLIGHT
BEGIN:STANDARD
TZOFFSETFROM:-0400
TZOFFSETTO:-0500
TZNAME:EST
DTSTART:20251102T060000
END:STANDARD
BEGIN:DAYLIGHT
TZOFFSETFROM:-0500
TZOFFSETTO:-0400
TZNAME:EDT
DTSTART:20260308T070000
END:DAYLIGHT
BEGIN:STANDARD
TZOFFSETFROM:-0400
TZOFFSETTO:-0500
TZNAME:EST
DTSTART:20261101T060000
END:STANDARD
END:VTIMEZONE
BEGIN:VEVENT
DTSTART;TZID=America/Toronto:20250203T120000
DTEND;TZID=America/Toronto:20250203T130000
DTSTAMP:20260417T020745
CREATED:20250125T051115Z
LAST-MODIFIED:20250205T134321Z
UID:10000453-1738584000-1738587600@sop.utoronto.ca
SUMMARY:Acting School. Do I Need It?
DESCRIPTION:Join UTC next Monday\, February 3 to discuss different acting/theatre schools in Toronto\, and how necessary it is for a career as an actor. Check out LB Acting Studio and Randolph College for the Performing Arts. Bring in your burning questions for our Q&A session. This is an open event to all students and recent alumni at Cat’s Eye Lounge. Hope to see you there.
URL:https://sop.utoronto.ca/event/acting-school-do-i-need-it/
LOCATION:Cat’e Eye\, 150 Charles St W\, Toronto\, Ontario\, M5S 1K6\, Canada
CATEGORIES:In Person On Campus
ORGANIZER;CN="University of Toronto Students Theatre Company (UTC)":MAILTO:shadi.sadat@mail.utoronto.ca
END:VEVENT
BEGIN:VEVENT
DTSTART;TZID=America/Toronto:20250210T180000
DTEND;TZID=America/Toronto:20250210T200000
DTSTAMP:20260417T020745
CREATED:20241226T042403Z
LAST-MODIFIED:20250205T134419Z
UID:10000451-1739210400-1739217600@sop.utoronto.ca
SUMMARY:Expressing Emotions Together with Clay
DESCRIPTION:In this activity\, participants will use ultra-light clay to express their emotions. They can create something that reflects how they are feeling today\, such as happiness\, stress\, or fatigue\, or represent a specific moment. There are no strict rules: participants might make an abstract shape\, a meaningful object\, or even something playful like a smiley face\, or a small animal. Participants can also make something that represents themselves. At the end\, participants will be encouraged to share their creations with each other\,  and a harmonious and safe space for sharing and connection will be provided by us.
URL:https://sop.utoronto.ca/event/expressing-emotions-together-with-clay/
LOCATION:Sidney smith\, 100 St.George St\, toronto\, Ontario\, M5S3G3\, Canada
CATEGORIES:In Person On Campus
ORGANIZER;CN="Center for New Immigrant Well-Being (CNIW) %E2%80%93 University of Toronto Student Chapter":MAILTO:yang.lou@mail.utoronto.ca
END:VEVENT
BEGIN:VEVENT
DTSTART;TZID=America/Toronto:20250210T190000
DTEND;TZID=America/Toronto:20250210T210000
DTSTAMP:20260417T020745
CREATED:20250128T151001Z
LAST-MODIFIED:20250205T134202Z
UID:10000452-1739214000-1739221200@sop.utoronto.ca
SUMMARY:Worship Night
DESCRIPTION:A powerful evening designed for students to connect\, reflect\, and recharge. It’s a space to build meaningful community while encountering God through inspiring music\, prayer\, and moments of reflection. Come as you are and join a group of like-minded students seeking unity\, purpose\, and renewal.
URL:https://sop.utoronto.ca/event/worship-night-2/
LOCATION:William Doo Auditorium\, 45 Willcocks St\, Toronto\, Ontario\, M5S 2H3\, Canada
CATEGORIES:In Person On Campus
ORGANIZER;CN="University of Toronto St George IGNITE! Student Club":MAILTO:utsgignite@studentorg.utoronto.ca
END:VEVENT
BEGIN:VEVENT
DTSTART;TZID=America/Toronto:20250212T130000
DTEND;TZID=America/Toronto:20250212T150000
DTSTAMP:20260417T020745
CREATED:20250207T192354Z
LAST-MODIFIED:20250210T154646Z
UID:10000455-1739365200-1739372400@sop.utoronto.ca
SUMMARY:Valentine's Sex Ed Trivia - NewPRIDE x NCSC x NASAH
DESCRIPTION:Join NewPRIDE\, NCSC and NASAH for a Sex Ed. Trivia. This event aims to create a safe and inclusive space to discuss topics such as consent\, sex and non-normative sex\, and self-pleasure. Food and beverages will be provided! \n\nOur event will be held in William Doo on February 12th from 1:00 – 3:00 PM. RSVP Here!\n\nFor all peer support requests or concerns\, please contact nasah.pears@gmail.com
URL:https://sop.utoronto.ca/event/valentines-sex-ed-trivia-newpride-x-ncsc-x-nasah/
LOCATION:William Doo Auditorium\, 45 Willcocks St.\, Toronto\, Ontario\, M5S 2H3\, Canada
CATEGORIES:In Person On Campus
ORGANIZER;CN="NewPRIDE":MAILTO:margaux.bagtas@mail.utoronto.ca
END:VEVENT
BEGIN:VEVENT
DTSTART;TZID=America/Toronto:20250214T183000
DTEND;TZID=America/Toronto:20250214T203000
DTSTAMP:20260417T020745
CREATED:20250131T192110Z
LAST-MODIFIED:20250210T154625Z
UID:10000449-1739557800-1739565000@sop.utoronto.ca
SUMMARY:Free Documentary Screening—Eternal Spring
DESCRIPTION:Free screening of Canada’s entry for Best International Feature Film at the 2023 Oscars®. Q&A session with film director. \nCanada’s first-ever animated entry to the Oscars® features a unique blend of animation and live action. Eternal Spring has received 27 international\, national\, and film festival prizes and was the only film in 2023 to qualify for the Oscars in all three categories of Best Animated Feature\, Best Documentary Feature\, and Best International Feature. \nIn March 2002\, a state TV signal in China is hacked by members of the banned spiritual group Falun Gong. Their goal is to counter the government narrative about their practice. \nIn the aftermath\, police raids sweep Changchun City\, and comic book illustrator Daxiong (Justice League\, Star Wars)\, a Falun Gong practitioner\, is forced to flee. He arrives in North America\, blaming the hijacking for worsening a violent repression. But his views are challenged when he meets the lone surviving participant to have escaped China\, now living in Seoul\, South Korea. \nCombining present-day footage with 3D animation inspired by Daxiong’s art\, Eternal Spring retraces the event on its 20th anniversary\, and brings to life an unprecedented story of defiance\, harrowing eyewitness accounts of persecution\, and an exhilarating tale of determination to speak up for political and religious freedoms\, no matter the cost. \nFor more information about the film\, please visit https://eternalspringfilm.com/
URL:https://sop.utoronto.ca/event/free-documentary-screening-eternal-spring/
LOCATION:Robarts Library 3-025 Theatre\, 130 St. George St.\, Toronto\, Ontario\, M5S 1A5\, Canada
CATEGORIES:In Person On Campus
ORGANIZER;CN="University of Toronto Choose Humanity Club":MAILTO:jerryzhixi.yan@mail.utoronto.ca
END:VEVENT
BEGIN:VEVENT
DTSTART;TZID=America/Toronto:20250224T150000
DTEND;TZID=America/Toronto:20250224T170000
DTSTAMP:20260417T020745
CREATED:20250208T040007Z
LAST-MODIFIED:20250210T154513Z
UID:10000454-1740409200-1740416400@sop.utoronto.ca
SUMMARY:Sociology Students Potluck
DESCRIPTION:The Sociology Social Club (SSC) is hosting a potluck event for students in the sociology program or students interested in sociology to come together and socialize in a relaxed but fun setting. This event provides students with a friendly environment to eat some delicious food\, build new relationships\, and have some of their sociology-related questions answered. Spots are limited so sign-up now!
URL:https://sop.utoronto.ca/event/sociology-students-potluck/
LOCATION:Sociology Department (17th Floor) Conference Room 17-020\, 700 University Ave.\, Toronto\, Ontario\, M7A 2S4\, Canada
CATEGORIES:In Person On Campus
ORGANIZER;CN="Sociology Social Club (SSC)":MAILTO:annabelziqi.liu@mail.utoronto.ca
END:VEVENT
END:VCALENDAR