BEGIN:VCALENDAR
VERSION:2.0
PRODID:-//Student Organization Portal - ECPv6.15.20//NONSGML v1.0//EN
CALSCALE:GREGORIAN
METHOD:PUBLISH
X-WR-CALNAME:Student Organization Portal
X-ORIGINAL-URL:https://sop.utoronto.ca
X-WR-CALDESC:Events for Student Organization Portal
REFRESH-INTERVAL;VALUE=DURATION:PT1H
X-Robots-Tag:noindex
X-PUBLISHED-TTL:PT1H
BEGIN:VTIMEZONE
TZID:America/Toronto
BEGIN:DAYLIGHT
TZOFFSETFROM:-0500
TZOFFSETTO:-0400
TZNAME:EDT
DTSTART:20250309T070000
END:DAYLIGHT
BEGIN:STANDARD
TZOFFSETFROM:-0400
TZOFFSETTO:-0500
TZNAME:EST
DTSTART:20251102T060000
END:STANDARD
BEGIN:DAYLIGHT
TZOFFSETFROM:-0500
TZOFFSETTO:-0400
TZNAME:EDT
DTSTART:20260308T070000
END:DAYLIGHT
BEGIN:STANDARD
TZOFFSETFROM:-0400
TZOFFSETTO:-0500
TZNAME:EST
DTSTART:20261101T060000
END:STANDARD
BEGIN:DAYLIGHT
TZOFFSETFROM:-0500
TZOFFSETTO:-0400
TZNAME:EDT
DTSTART:20270314T070000
END:DAYLIGHT
BEGIN:STANDARD
TZOFFSETFROM:-0400
TZOFFSETTO:-0500
TZNAME:EST
DTSTART:20271107T060000
END:STANDARD
END:VTIMEZONE
BEGIN:VEVENT
DTSTART;TZID=America/Toronto:20260308T100000
DTEND;TZID=America/Toronto:20260308T170000
DTSTAMP:20260417T014636
CREATED:20260228T191154Z
LAST-MODIFIED:20260228T191155Z
UID:10000494-1772964000-1772989200@sop.utoronto.ca
SUMMARY:Toronto Sports Industry Conference 2026
DESCRIPTION:The Toronto Sports Industry Conference (TSIC) 2026\, hosted by the University of Toronto Sports & Business Association\, is a full-day conference bringing together students and industry leaders at the forefront of sports\, media\, marketing\, and business. \nHeld on International Women’s Day\, this year’s conference proudly highlights the leaders shaping the future of sport\, both on and off the field. \nFeatured Speakers Include: \n\nJamie Campbell – Host\, Toronto Blue Jays Broadcasts (Sportsnet)\nMichael Grange – NBA Analyst & Columnist (Sportsnet)\nCaroline Cmaeron – Host & Broadcaster (Sportsnet)\nChristine Simpson – NHL Reporter (Sportsnet)\nSharon Bollenbach – Executive Director\, FIFA World Cup 2026 at City of Toronto\nJames Johnson – Group CEO\, Canadian Soccer Media & Entertainment & Commissioner\, Canadian Premier League\nSenior executives from TRUE Sports\, Bell Canada\, Home Hardware\, and more\n\nProgramming Includes: \n\n4 Industry panels\n1 Featured Fireside Chat\nLive Q&A Sessions\nNetworking Opportunities\nInteractive Giveaways & Exclusive Prizes\n\nHere are the panels/fireside chat: \n\nPanel 1 – Inside the Mental Game: Psychology\, Performance\, and High-Pressure Sport\nPanel 2 – Beyond the Logo: Building Brands Through Modern Partnerships\nPanel 3 – Breaking Through: Women Leading Across Sport\nPanel 4 – World Cup on Home Soil: Toronto’s Moment on the Global Stage\nFireside Chat – Covering the Game: Media\, Storytelling\, and the Business of Sport\n\nWhether you’re interested in media\, marketing\, consulting\, partnerships\, analytics\, or executive leadership in sport\, TSIC 2026 offers direct access to industry professionals and meaningful career insights.
URL:https://sop.utoronto.ca/event/toronto-sports-industry-conference-2026/
LOCATION:The Great Hall\, Hart House\, 7 Hart House Circle\, Toronto\, Ontario\, M5S 3H3\, Canada
CATEGORIES:In Person On Campus
ORGANIZER;CN="University of Toronto Sports and Business Student Association (UTSB)":MAILTO:imad.anas@mail.utoronto.ca
END:VEVENT
BEGIN:VEVENT
DTSTART;TZID=America/Toronto:20260316T120000
DTEND;TZID=America/Toronto:20260316T170000
DTSTAMP:20260417T014636
CREATED:20260318T185117Z
LAST-MODIFIED:20260318T185118Z
UID:10000500-1773662400-1773680400@sop.utoronto.ca
SUMMARY:Tabling in CCT Link - Raffle for Lego Sets!
DESCRIPTION:Join us on Monday\, March 16th 2026 in the UTM CCT Link for a tabling event you will not want to miss! \nStop by for your chance to win one of two exciting Lego sets\, including a Minecraft Fox set or a 3 in 1 build where you can create a cat\, dog\, or pigeon! Raffle tickets are just $2 for 1 or $5 for 5\, with all proceeds going directly to Paws and Tails Adoptions to support stray cats and other small animals in need. \nGrab some free candy\, meet fellow animal lovers\, and learn more about how you can get involved with our club and make a real difference!
URL:https://sop.utoronto.ca/event/tabling-in-cct-link-raffle-for-lego-sets/
LOCATION:CCT Link\, UTM Campus\, 3359 Mississauga Road\, Mississauga\, Ontario\, L5L 1C6\, Canada
CATEGORIES:In Person On Campus
ORGANIZER;CN="Paws For A Cause (PFAC)":MAILTO:julianna.fiamengo@mail.utoronto.ca
END:VEVENT
BEGIN:VEVENT
DTSTART;TZID=America/Toronto:20260316T163000
DTEND;TZID=America/Toronto:20260316T171500
DTSTAMP:20260417T014636
CREATED:20260309T201031Z
LAST-MODIFIED:20260309T201032Z
UID:10000496-1773678600-1773681300@sop.utoronto.ca
SUMMARY:Sensory Workshop
DESCRIPTION:ICCan U of T invites children in grades 1-5 to a FREE spring sensory craft workshop! Student leaders from the University of Toronto trained in inclusive recreation and programming will lead participants through creating fun sensory activities including spring sensory bins\, fidget keychains\, and more! \n*this is not a Toronto public library event \nYou can learn more about ICCan at our website: https://www.inclusivecommunitiescanada.org \nRegistration: https://docs.google.com/forms/d/e/1FAIpQLSf6lp_3DnKTrXmJ0LWQ2mtShzphqD7-15WkgbqCHhgokHGGEg/viewform
URL:https://sop.utoronto.ca/event/sensory-workshop/
LOCATION:Toronto Public Library – Lillian H. Smith branch\, 239 College Street (College and Spadina)\, Toronto\, Ontario\, M5T1R5\, Canada
CATEGORIES:In Person Off Campus
ORGANIZER;CN="Inclusive Communities Canada %E2%80%93 U of T Student Chapter (ICCan UofT)":MAILTO:laura.wagstaff@mail.utoronto.ca
END:VEVENT
BEGIN:VEVENT
DTSTART;TZID=America/Toronto:20260318T150000
DTEND;TZID=America/Toronto:20260318T160000
DTSTAMP:20260417T014636
CREATED:20260315T180831Z
LAST-MODIFIED:20260315T180908Z
UID:10000497-1773846000-1773849600@sop.utoronto.ca
SUMMARY:Ottoman Manuscripts Reading Group
DESCRIPTION:Ottoman and Post-Ottoman Studies Student Association (OPSA) \nThe Ottoman Manuscripts Reading Group provides an opportunity for University of Toronto students to participate in a collective reading session focused on Ottoman-language manuscripts and a wide range of archival documents. \nThe event is open to University of Toronto students\, particularly those interested in Ottoman and Post-Ottoman Studies who have some preliminary experience working with documents in Ottoman Turkish.
URL:https://sop.utoronto.ca/event/ottoman-manuscripts-reading-group/
LOCATION:University College\, UC 69\, University of Toronto\, 15 King's College Circle\, Ontario\, Toronto\, Canada
CATEGORIES:In Person On Campus
ORGANIZER;CN="Ottoman and%E2%80%AFPost-Ottoman%E2%80%AFStudies%E2%80%AFStudent Association at the U of T (OPSA)":MAILTO:ahmet.koc@mail.utoronto.ca
END:VEVENT
BEGIN:VEVENT
DTSTART;TZID=America/Toronto:20260323T100000
DTEND;TZID=America/Toronto:20260323T110000
DTSTAMP:20260417T014636
CREATED:20260318T183741Z
LAST-MODIFIED:20260318T183741Z
UID:10000499-1774260000-1774263600@sop.utoronto.ca
SUMMARY:Pause With Paws: De-Stress with Dino While Exploring Animal Careers & Volunteer Opportunities
DESCRIPTION:Join us for a fun and engaging event with UTM’s beloved therapy dog\, Dino! \nCome de-stress\, meet fellow animal lovers\, and explore exciting ways to get involved in animal-related work. We will be sharing a wide range of volunteer and job opportunities including experiences with wildlife\, exotics\, and companion animals like cats and dogs. This event is the perfect learning opportunity for anyone looking to build their resume or pursue a career working with animals. Dino’s owner\, April\, will also give an inside look into the therapy dog certification process and what a typical day working with Dino is like. Stay until the end for some quality time with Dino and free Kripsy Kreme donuts!!
URL:https://sop.utoronto.ca/event/pause-with-paws-de-stress-with-dino-while-exploring-animal-careers-volunteer-opportunities/
LOCATION:MN 6128\, UTM Campus\, 3359 Mississauga Road\, Mississauga\, Ontario\, L5L 1C6\, Canada
CATEGORIES:In Person On Campus
ORGANIZER;CN="Paws For A Cause (PFAC)":MAILTO:julianna.fiamengo@mail.utoronto.ca
END:VEVENT
BEGIN:VEVENT
DTSTART;TZID=America/Toronto:20260323T170000
DTEND;TZID=America/Toronto:20260323T190000
DTSTAMP:20260417T014636
CREATED:20260316T183035Z
LAST-MODIFIED:20260316T183035Z
UID:10000498-1774285200-1774292400@sop.utoronto.ca
SUMMARY:JSA: Future of Journalism Panel
DESCRIPTION:Are you interested in journalism? How about the future? Join JSA for our Future of Journalism Panel featuring journalists with perspectives from different careers from traditional journalism to a background in PR to student papers. Come learn their perspective\, ask questions and chat with like minded individuals. \n  \n  \n 
URL:https://sop.utoronto.ca/event/jsa-future-of-journalism-panel/
LOCATION:AC 227\, University of Toronto\, Scarborough Campus\, 1265 Military Trail\, Ontario\, Toronto\, Canada
CATEGORIES:In Person On Campus
ORGANIZER;CN="Journalism Student Association":MAILTO:jsa.utsc@studentorg.utoronto.ca
END:VEVENT
BEGIN:VEVENT
DTSTART;TZID=America/Toronto:20260325T150000
DTEND;TZID=America/Toronto:20260325T163000
DTSTAMP:20260417T014636
CREATED:20260323T014216Z
LAST-MODIFIED:20260323T014253Z
UID:10000502-1774450800-1774456200@sop.utoronto.ca
SUMMARY:Ottoman Manuscripts Reading Group #2: The Court Registers
DESCRIPTION:Our reading group titled “the Ottoman Manuscripts Reading Group” provides an opportunity for University of Toronto students to participate in a collective reading session focused on Ottoman-language manuscripts and a wide range of archival documents. \nThe event is open to University of Toronto students\, particularly those interested in Ottoman and Post-Ottoman Studies who have some preliminary experience working with documents in Ottoman Turkish. \nIn this second session\, we will focus on the court registers in the Ottoman context and be familiar with some of the samples.
URL:https://sop.utoronto.ca/event/ottoman-manuscripts-reading-group-2-the-court-registers/
LOCATION:St. George 3 (10th Floor) – Group Study Rooms (Robarts Library Stacks)\, 130 St George St\, Toronto\, ON M5S 0C2\, Toronto\, Ontario\, M5S 0C2\, Canada
CATEGORIES:In Person On Campus
ORGANIZER;CN="Ottoman and%E2%80%AFPost-Ottoman%E2%80%AFStudies%E2%80%AFStudent Association at the U of T (OPSA)":MAILTO:onur.cezik@mail.utoronto.ca
END:VEVENT
BEGIN:VEVENT
DTSTART;TZID=America/Toronto:20260326T190000
DTEND;TZID=America/Toronto:20260326T210000
DTSTAMP:20260417T014636
CREATED:20260325T142238Z
LAST-MODIFIED:20260325T142239Z
UID:10000503-1774551600-1774558800@sop.utoronto.ca
SUMMARY:Campus to Career
DESCRIPTION:A game style event with upper years and alumni  to help students navigate their future career and life after undergrad 🙂
URL:https://sop.utoronto.ca/event/campus-to-career/
LOCATION:Sidney Smith Hall\, 100 St George st\, Toronto\, Ontario\, M5S3G3\, Canada
CATEGORIES:In Person On Campus
ORGANIZER;CN="Ignite Student Club UTSG":MAILTO:utsgignite@studentorg.utoronto.ca
END:VEVENT
BEGIN:VEVENT
DTSTART;TZID=America/Toronto:20260327T153000
DTEND;TZID=America/Toronto:20260327T170000
DTSTAMP:20260417T014636
CREATED:20260323T005725Z
LAST-MODIFIED:20260323T005726Z
UID:10000501-1774625400-1774630800@sop.utoronto.ca
SUMMARY:Graduate Forum on Ottoman and Post-Ottoman Studies
DESCRIPTION:For our upcoming reading group\, we will be reading The Sublime Post: How the Ottoman Imperial Post Became a Public Service by Choon Hwee Koh. \nWe will meet on Friday\, 27 March 2026\, from 15:30 to 17:00\, at the University College\, UC 248. \nLooking forward to discussing it together. \nOPSA TEAM
URL:https://sop.utoronto.ca/event/graduate-forum-on-ottoman-and-post-ottoman-studies/
LOCATION:UC 248\, University College 15 King's College Circle\, Toronro\, Ontario\, M5S 3H7\, Canada
CATEGORIES:In Person On Campus
ORGANIZER;CN="Ottoman and%E2%80%AFPost-Ottoman%E2%80%AFStudies%E2%80%AFStudent Association at the U of T (OPSA)":MAILTO:kadir.selamet@mail.utoronto.ca
END:VEVENT
BEGIN:VEVENT
DTSTART;TZID=America/Toronto:20260327T200000
DTEND;TZID=America/Toronto:20260327T235900
DTSTAMP:20260417T014636
CREATED:20260210T210110Z
LAST-MODIFIED:20260210T210151Z
UID:10000492-1774641600-1774655940@sop.utoronto.ca
SUMMARY:UofT Bridgerton Ball 2026
DESCRIPTION:Dear Gentle Reader\, \nYou are most cordially invited to step once more into a world of refined splendour and sparkling society at our Bridgerton Ball. After the great success of last year’s Masquerade Ball\, which many still speak of with admiration\, we are delighted to open the doors again and welcome both familiar faces and new guests for another unforgettable evening. \nFor one enchanted night\, the historic halls of Hart House shall transform into the setting of the season’s most anticipated affair. Glide across the dance floor\, make the acquaintance of new faces\, and enjoy light refreshments as the evening unfolds with grace and gaiety. \nAttire of the utmost elegance is not merely encouraged—it is expected. Silks\, satins\, gloves\, and glamour shall reign\, for this is an occasion where first impressions truly matter. \nPrepare yourself for a most memorable night\, where elegance fills the air and every moment feels plucked from the pages of the ton’s favourite chronicle. One can only wonder… who shall be the evening’s true diamond? \nYours most devotedly\,\nThe Host of the Season
URL:https://sop.utoronto.ca/event/uoft-bridgerton-ball-2026/
LOCATION:Debates Room\, Harthouse\, 7 Hart House Circle\, Toronto\, Ontario\, M5S 3H3\, Canada
CATEGORIES:In Person On Campus
ORGANIZER;CN="Ballroom Dance Club":MAILTO:ballroomdance.uoft@studentorg.utoronto.ca
END:VEVENT
BEGIN:VEVENT
DTSTART;TZID=America/Toronto:20260329T113000
DTEND;TZID=America/Toronto:20260329T133000
DTSTAMP:20260417T014636
CREATED:20260326T231826Z
LAST-MODIFIED:20260326T232247Z
UID:10000504-1774783800-1774791000@sop.utoronto.ca
SUMMARY:Charity Walk/Run for a Cause
DESCRIPTION:Student for Wishes\, The University of Toronto Marathon Club and Trek for Teens are teaming up for a meaningful 2k & 5k Walk/Run Charity event! All proceeds will go directly to the Make-A-Wish Foundation\, helping to fulfill life changing wishes for children in need. Included in your registration fees is lots of food (bagels\, pastries\, drinks and MORE). To learn more about our sponsors\, check out our Instagram below!\nPlease fill out this registration form below if you are interested in joining this event! In support of Trek for Teens’ mission\, we also ask that participants bring lightly used clothing\, and/or unopened hygiene products and non-perishable goods to be donated towards Covenant House; a youth shelter in Toronto! All proceeds from the registration fees will be donated towards the Make-A-Wish Foundation\, \nRegistration form: https://forms.gle/TBe8Q4QEtSbGomN89 \nRegistration fee: https://makeawishca.donordrive.com/campaigns/Students-for-Wishes-UofT-2025-2026 \nWhen: Sunday\, Sunday March 29\, 2026 at 11:30am\n\nWhere: Meet at Soldiers’ Tower – Hart House Cir\, Toronto\, ON M5S 3H7\nWhat: 2k walk or 5k run\nHow much?\n\n\n$10 early bird March 15 – March 23\n$15 regular price March 24-28\n\n\n\n\nFollow us on Instagram for more information: \n\n\n@sfw.uoft\n@uoftmarathonclub\n@uofttrekforteens
URL:https://sop.utoronto.ca/event/charity-walk-run-for-a-cause/
LOCATION:Soldiers’ Tower – Hart House Cir\, Toronto\, ON M5S 3H7\, Soldiers’ Tower - Hart House Cir\, Toronto\, Ontario\, M5S 3H7\, Canada
CATEGORIES:In Person On Campus
ORGANIZER;CN="Students for Wishes University of Toronto Student Chapter":MAILTO:fatimam.masood@Mail.utoronto.ca
END:VEVENT
BEGIN:VEVENT
DTSTART;TZID=America/Toronto:20260329T120000
DTEND;TZID=America/Toronto:20260329T140000
DTSTAMP:20260417T014636
CREATED:20260305T172903Z
LAST-MODIFIED:20260318T163111Z
UID:10000495-1774785600-1774792800@sop.utoronto.ca
SUMMARY:Golden Z @ UofT Chartering Ceremony
DESCRIPTION:Join us in celebrating the official chartering of Golden Z @ UofT! We are a UofT student organisation dedicated to advancing gender equity in the local community\, proudly sponsored by the Zonta Club of Toronto. \n  \nThe ceremony will feature an introduction to Zonta International and our club’s mission\, a Yellow Rose Ceremony\, and Amelia Earhart Ceremony. It will be a wonderful opportunity to connect with Zonta members and leaders. Refreshments provided. \n  \nIf you are interested in our mission and want to attend the ceremony\, please RSVP to our email goldenz@studentorg.utoronto.ca .
URL:https://sop.utoronto.ca/event/golden-z-uoft-chartering-ceremony/
LOCATION:Bahen Centre for Information Technology (room to be confirmed)\, 40 St George St\, Toronto\, Ontario\, M5S 2E4\, Canada
CATEGORIES:In Person On Campus
ORGANIZER;CN="Golden Z %E2%80%93 University of Toronto Student Chapter":MAILTO:goldenz@studentorg.utoronto.ca
END:VEVENT
BEGIN:VEVENT
DTSTART;TZID=America/Toronto:20260330T180000
DTEND;TZID=America/Toronto:20260330T183000
DTSTAMP:20260417T014636
CREATED:20260327T175607Z
LAST-MODIFIED:20260327T175608Z
UID:10000505-1774893600-1774895400@sop.utoronto.ca
SUMMARY:Do you want responses?
DESCRIPTION:Do you want responses? \nWe’re inviting new members to a FREE demo workshop where we’ll show how our mentorship helps pre-med students break into research. In this session\, you’ll see \n  \n\nPersonalized feedback on your CV & LinkedIn profile\nInsight into why professors aren’t replying\nTips to outreach emails\nClear next steps to start landing research opportunities
URL:https://sop.utoronto.ca/event/do-you-want-responses/
LOCATION:Pre-med Volunteers netwrok\, 27 King's College Circle\, 27\, Ontario\, Toronto\, Canada
CATEGORIES:In Person On Campus
ORGANIZER;CN="Pre-med Volunteers Network (PVN)":MAILTO:mateo.mahecha@mail.utoronto.ca
END:VEVENT
END:VCALENDAR