BEGIN:VCALENDAR
VERSION:2.0
PRODID:-//Student Organization Portal - ECPv6.15.20//NONSGML v1.0//EN
CALSCALE:GREGORIAN
METHOD:PUBLISH
X-WR-CALNAME:Student Organization Portal
X-ORIGINAL-URL:https://sop.utoronto.ca
X-WR-CALDESC:Events for Student Organization Portal
REFRESH-INTERVAL;VALUE=DURATION:PT1H
X-Robots-Tag:noindex
X-PUBLISHED-TTL:PT1H
BEGIN:VTIMEZONE
TZID:America/Toronto
BEGIN:DAYLIGHT
TZOFFSETFROM:-0500
TZOFFSETTO:-0400
TZNAME:EDT
DTSTART:20230312T070000
END:DAYLIGHT
BEGIN:STANDARD
TZOFFSETFROM:-0400
TZOFFSETTO:-0500
TZNAME:EST
DTSTART:20231105T060000
END:STANDARD
BEGIN:DAYLIGHT
TZOFFSETFROM:-0500
TZOFFSETTO:-0400
TZNAME:EDT
DTSTART:20240310T070000
END:DAYLIGHT
BEGIN:STANDARD
TZOFFSETFROM:-0400
TZOFFSETTO:-0500
TZNAME:EST
DTSTART:20241103T060000
END:STANDARD
BEGIN:DAYLIGHT
TZOFFSETFROM:-0500
TZOFFSETTO:-0400
TZNAME:EDT
DTSTART:20250309T070000
END:DAYLIGHT
BEGIN:STANDARD
TZOFFSETFROM:-0400
TZOFFSETTO:-0500
TZNAME:EST
DTSTART:20251102T060000
END:STANDARD
END:VTIMEZONE
BEGIN:VEVENT
DTSTART;TZID=America/Toronto:20240920T140000
DTEND;TZID=America/Toronto:20240920T200000
DTSTAMP:20260423T024148
CREATED:20240919T142707Z
LAST-MODIFIED:20240919T142707Z
UID:10000434-1726840800-1726862400@sop.utoronto.ca
SUMMARY:math help session (regular)
DESCRIPTION:The Mathematics Support Initiative (MSI) is an officially recognized student group with a general purpose of supporting undergraduate students at UofT (tri-campus). We aim to provide instant support to students in math-related courses in addition to existing resources. Come visit us and ask any math-related questions you have! \nStudents can participate by visiting our weekly math help sessions. Weekly schedules will be posted on social media. (Discord: https://discord.gg/5JDJswnrDg; Instagram: mathematics_support_initiative)
URL:https://sop.utoronto.ca/event/math-help-session-regular-2/
LOCATION:MP200 (physics undergraduate lounge)\, McLennan Physical Laboratories\, Toronto\, Ontario\, M5S 1A7\, Canada
CATEGORIES:Hybrid
ORGANIZER;CN="Mathematics Support Initiative (MSI)":MAILTO:hanfu.gong@mail.utoronto.ca
END:VEVENT
END:VCALENDAR