BEGIN:VCALENDAR
VERSION:2.0
PRODID:-//Student Organization Portal - ECPv6.15.20//NONSGML v1.0//EN
CALSCALE:GREGORIAN
METHOD:PUBLISH
X-WR-CALNAME:Student Organization Portal
X-ORIGINAL-URL:https://sop.utoronto.ca
X-WR-CALDESC:Events for Student Organization Portal
REFRESH-INTERVAL;VALUE=DURATION:PT1H
X-Robots-Tag:noindex
X-PUBLISHED-TTL:PT1H
BEGIN:VTIMEZONE
TZID:America/Toronto
BEGIN:DAYLIGHT
TZOFFSETFROM:-0500
TZOFFSETTO:-0400
TZNAME:EDT
DTSTART:20240310T070000
END:DAYLIGHT
BEGIN:STANDARD
TZOFFSETFROM:-0400
TZOFFSETTO:-0500
TZNAME:EST
DTSTART:20241103T060000
END:STANDARD
BEGIN:DAYLIGHT
TZOFFSETFROM:-0500
TZOFFSETTO:-0400
TZNAME:EDT
DTSTART:20250309T070000
END:DAYLIGHT
BEGIN:STANDARD
TZOFFSETFROM:-0400
TZOFFSETTO:-0500
TZNAME:EST
DTSTART:20251102T060000
END:STANDARD
BEGIN:DAYLIGHT
TZOFFSETFROM:-0500
TZOFFSETTO:-0400
TZNAME:EDT
DTSTART:20260308T070000
END:DAYLIGHT
BEGIN:STANDARD
TZOFFSETFROM:-0400
TZOFFSETTO:-0500
TZNAME:EST
DTSTART:20261101T060000
END:STANDARD
END:VTIMEZONE
BEGIN:VEVENT
DTSTART;TZID=America/Toronto:20250329T110000
DTEND;TZID=America/Toronto:20250329T190000
DTSTAMP:20260422T004619
CREATED:20250311T014936Z
LAST-MODIFIED:20250311T015059Z
UID:10000461-1743246000-1743274800@sop.utoronto.ca
SUMMARY:UTM MUN 2025 Virtual Conference
DESCRIPTION:University of Toronto Mississauga Model United Nations is hosting a FREE online conference on Saturday\, March 29th\, 2025 from 11am-7pm for both high school and undergraduate students. UTSG\, UTSC\, and UTM students are welcome to attend.\n\nThere will be 4 General Assembly committees and 2 Crisis committees. This is a beginner-friendly conference and you have the chance to win awards! More information can be seen on our website: https://www.utmmun2025.org/\n\nPlease fill out this form to register.\nRegistration will close on March 25th\, 2025 at 11:59pm:\nhttps://forms.gle/SjgxXrupgqfJ14za8\n\nPosition papers are not required\, however\, we will still accept them to be considered for the Best Position Paper Award for each General Assembly committee. Position papers can be submitted here and they are due March 26th\, 2025 at 11:59pm: https://forms.gle/Fmo4eT9Wewp6od8t8
URL:https://sop.utoronto.ca/event/utm-mun-2025-virtual-conference/
LOCATION:Virtual\, 3359 Mississauga Rd\, Mississauga\, Ontario\, L5L 1C6\, Canada
CATEGORIES:Virtual
ORGANIZER;CN="UTM Model United Nations (MUN)":MAILTO:gahana.nagireddy@mail.utoronto.ca
END:VEVENT
END:VCALENDAR