BEGIN:VCALENDAR
VERSION:2.0
PRODID:-//Student Organization Portal - ECPv6.15.20//NONSGML v1.0//EN
CALSCALE:GREGORIAN
METHOD:PUBLISH
X-WR-CALNAME:Student Organization Portal
X-ORIGINAL-URL:https://sop.utoronto.ca
X-WR-CALDESC:Events for Student Organization Portal
REFRESH-INTERVAL;VALUE=DURATION:PT1H
X-Robots-Tag:noindex
X-PUBLISHED-TTL:PT1H
BEGIN:VTIMEZONE
TZID:America/Toronto
BEGIN:DAYLIGHT
TZOFFSETFROM:-0500
TZOFFSETTO:-0400
TZNAME:EDT
DTSTART:20210314T070000
END:DAYLIGHT
BEGIN:STANDARD
TZOFFSETFROM:-0400
TZOFFSETTO:-0500
TZNAME:EST
DTSTART:20211107T060000
END:STANDARD
BEGIN:DAYLIGHT
TZOFFSETFROM:-0500
TZOFFSETTO:-0400
TZNAME:EDT
DTSTART:20220313T070000
END:DAYLIGHT
BEGIN:STANDARD
TZOFFSETFROM:-0400
TZOFFSETTO:-0500
TZNAME:EST
DTSTART:20221106T060000
END:STANDARD
BEGIN:DAYLIGHT
TZOFFSETFROM:-0500
TZOFFSETTO:-0400
TZNAME:EDT
DTSTART:20230312T070000
END:DAYLIGHT
BEGIN:STANDARD
TZOFFSETFROM:-0400
TZOFFSETTO:-0500
TZNAME:EST
DTSTART:20231105T060000
END:STANDARD
END:VTIMEZONE
BEGIN:VEVENT
DTSTART;TZID=America/Toronto:20221114T183000
DTEND;TZID=America/Toronto:20221114T200000
DTSTAMP:20260420T202656
CREATED:20221114T171122Z
LAST-MODIFIED:20221114T171122Z
UID:10000338-1668450600-1668456000@sop.utoronto.ca
SUMMARY:LESA First Meeting
DESCRIPTION:Come to our first meeting on our first day back after reading week! There will be lots of opportunities to get involved in the group and plan fun events in the future. Most importantly there will be pizza! We are currently looking for people to fill various executive roles & general members. Come November 14th to learn more about us and get involved in the Latino Skule community!
URL:https://sop.utoronto.ca/event/lesa-first-meeting/
LOCATION:BA2155\, 40 Saint George Street\, Toronto\, Ontario\, M5S 2E4\, Canada
CATEGORIES:In Person On Campus
ORGANIZER;CN="Latin Engineering Students&#8217%3B Association":MAILTO:rl.faifecruz@mail.utoronto.ca
END:VEVENT
END:VCALENDAR