BEGIN:VCALENDAR
VERSION:2.0
PRODID:-//Student Organization Portal - ECPv6.15.20//NONSGML v1.0//EN
CALSCALE:GREGORIAN
METHOD:PUBLISH
X-ORIGINAL-URL:https://sop.utoronto.ca
X-WR-CALDESC:Events for Student Organization Portal
REFRESH-INTERVAL;VALUE=DURATION:PT1H
X-Robots-Tag:noindex
X-PUBLISHED-TTL:PT1H
BEGIN:VTIMEZONE
TZID:America/Toronto
BEGIN:DAYLIGHT
TZOFFSETFROM:-0500
TZOFFSETTO:-0400
TZNAME:EDT
DTSTART:20220313T070000
END:DAYLIGHT
BEGIN:STANDARD
TZOFFSETFROM:-0400
TZOFFSETTO:-0500
TZNAME:EST
DTSTART:20221106T060000
END:STANDARD
BEGIN:DAYLIGHT
TZOFFSETFROM:-0500
TZOFFSETTO:-0400
TZNAME:EDT
DTSTART:20230312T070000
END:DAYLIGHT
BEGIN:STANDARD
TZOFFSETFROM:-0400
TZOFFSETTO:-0500
TZNAME:EST
DTSTART:20231105T060000
END:STANDARD
BEGIN:DAYLIGHT
TZOFFSETFROM:-0500
TZOFFSETTO:-0400
TZNAME:EDT
DTSTART:20240310T070000
END:DAYLIGHT
BEGIN:STANDARD
TZOFFSETFROM:-0400
TZOFFSETTO:-0500
TZNAME:EST
DTSTART:20241103T060000
END:STANDARD
END:VTIMEZONE
BEGIN:VEVENT
DTSTART;TZID=America/Toronto:20230218T150000
DTEND;TZID=America/Toronto:20230218T170000
DTSTAMP:20260422T205136
CREATED:20230123T200835Z
LAST-MODIFIED:20230123T200950Z
UID:10000348-1676732400-1676739600@sop.utoronto.ca
SUMMARY:MNC Charity Basketball Tournament
DESCRIPTION:Do you enjoy playing basketball? Is it even more fun with your friends? If your answer is yes then MNC is pleased to host a charity basketball tournament. \nBelow are the important details: \nWhat: MNC Charity Basketball Tournament \nWhen: Sat\, Feb 18 3-5pm \nWhere: MLSE Launch Pad\, 259 Jarvis St\, Toronto\, ON M5B 2C2 \nYou can attend in teams of 5\, which will be a total of $50 per team. If you decide to sign up individually\, it will be $15 per individual. \nSign Up Here: \nhttps://www.mynetworkingclub.com/about-3-1?fbclid=IwAR3013ETueLhls4baEZkO05HL-_hhjHaIbmYszPPfRLQJ4qFbRzaJeofIn4 \nLast day to sign up is Feb 16 so don’t miss your chance and sign up now! \nIf you have any questions\, please feel free to email mynetworkingclubcanada@gmail.com
URL:https://sop.utoronto.ca/event/mnc-charity-basketball-tournament/
LOCATION:MLSE Launch Pad\, 259 Jarvis Street\, Toronto\, Ontario\, M5C 2B2\, Canada
CATEGORIES:In Person Off Campus
ORGANIZER;CN="My Networking Club University of Toronto":MAILTO:khin.zin@mail.utoronto.ca
END:VEVENT
END:VCALENDAR