BEGIN:VCALENDAR
VERSION:2.0
PRODID:-//Student Organization Portal - ECPv6.15.20//NONSGML v1.0//EN
CALSCALE:GREGORIAN
METHOD:PUBLISH
X-ORIGINAL-URL:https://sop.utoronto.ca
X-WR-CALDESC:Events for Student Organization Portal
REFRESH-INTERVAL;VALUE=DURATION:PT1H
X-Robots-Tag:noindex
X-PUBLISHED-TTL:PT1H
BEGIN:VTIMEZONE
TZID:America/Toronto
BEGIN:DAYLIGHT
TZOFFSETFROM:-0500
TZOFFSETTO:-0400
TZNAME:EDT
DTSTART:20220313T070000
END:DAYLIGHT
BEGIN:STANDARD
TZOFFSETFROM:-0400
TZOFFSETTO:-0500
TZNAME:EST
DTSTART:20221106T060000
END:STANDARD
BEGIN:DAYLIGHT
TZOFFSETFROM:-0500
TZOFFSETTO:-0400
TZNAME:EDT
DTSTART:20230312T070000
END:DAYLIGHT
BEGIN:STANDARD
TZOFFSETFROM:-0400
TZOFFSETTO:-0500
TZNAME:EST
DTSTART:20231105T060000
END:STANDARD
BEGIN:DAYLIGHT
TZOFFSETFROM:-0500
TZOFFSETTO:-0400
TZNAME:EDT
DTSTART:20240310T070000
END:DAYLIGHT
BEGIN:STANDARD
TZOFFSETFROM:-0400
TZOFFSETTO:-0500
TZNAME:EST
DTSTART:20241103T060000
END:STANDARD
END:VTIMEZONE
BEGIN:VEVENT
DTSTART;TZID=America/Toronto:20230218T093000
DTEND;TZID=America/Toronto:20230219T170000
DTSTAMP:20260422T212546
CREATED:20230315T020619Z
LAST-MODIFIED:20230315T020619Z
UID:10000359-1676712600-1676826000@sop.utoronto.ca
SUMMARY:MEDSprint Design-a-thon
DESCRIPTION:MedSprint is a two-day Biomedical Engineering design-a-thon that focuses on patient-centered design. Through this event\, students will create innovative and personalized solutions in teams by working alongside community partners who present their experiences with their medical concerns. There will be monetary prizes up to $300\, and workshops on Neurotech\, CAD Solidworks\, and 3D printing!! This event will be held at the University of Toronto St. George campus\, on Saturday March 18th from 9:30 am to 5:00 pm\, and Sunday March 19th from 9:30 am to 5:00 pm. This form will be closing on Thursday\, March 16th. Please sign up at your earliest convenience to secure your spot!\n\nSign up here: https://forms.gle/JmkNJSiPMVYmFGb96
URL:https://sop.utoronto.ca/event/medsprint-design-a-thon/
LOCATION:Sidney Smith\, 100 Saint George Street\, Toronto\, Ontario\, M5S 2E5\, Canada
CATEGORIES:In Person On Campus
ORGANIZER;CN="University of Toronto Biomedical Engineering Design Team":MAILTO:jenny.wei@maill.utoronto.ca
END:VEVENT
END:VCALENDAR