BEGIN:VCALENDAR
VERSION:2.0
PRODID:-//Student Organization Portal - ECPv6.15.20//NONSGML v1.0//EN
CALSCALE:GREGORIAN
METHOD:PUBLISH
X-ORIGINAL-URL:https://sop.utoronto.ca
X-WR-CALDESC:Events for Student Organization Portal
REFRESH-INTERVAL;VALUE=DURATION:PT1H
X-Robots-Tag:noindex
X-PUBLISHED-TTL:PT1H
BEGIN:VTIMEZONE
TZID:America/Toronto
BEGIN:DAYLIGHT
TZOFFSETFROM:-0500
TZOFFSETTO:-0400
TZNAME:EDT
DTSTART:20210314T070000
END:DAYLIGHT
BEGIN:STANDARD
TZOFFSETFROM:-0400
TZOFFSETTO:-0500
TZNAME:EST
DTSTART:20211107T060000
END:STANDARD
BEGIN:DAYLIGHT
TZOFFSETFROM:-0500
TZOFFSETTO:-0400
TZNAME:EDT
DTSTART:20220313T070000
END:DAYLIGHT
BEGIN:STANDARD
TZOFFSETFROM:-0400
TZOFFSETTO:-0500
TZNAME:EST
DTSTART:20221106T060000
END:STANDARD
BEGIN:DAYLIGHT
TZOFFSETFROM:-0500
TZOFFSETTO:-0400
TZNAME:EDT
DTSTART:20230312T070000
END:DAYLIGHT
BEGIN:STANDARD
TZOFFSETFROM:-0400
TZOFFSETTO:-0500
TZNAME:EST
DTSTART:20231105T060000
END:STANDARD
END:VTIMEZONE
BEGIN:VEVENT
DTSTART;TZID=America/Toronto:20221110T110000
DTEND;TZID=America/Toronto:20221110T150000
DTSTAMP:20260423T050639
CREATED:20221107T220230Z
LAST-MODIFIED:20240116T155749Z
UID:10000336-1668078000-1668092400@sop.utoronto.ca
SUMMARY:Trivia Fundraiser
DESCRIPTION:Hey UTM👋 we’re hosting a Trivia game! If you think you have what it takes come join us in the student centre this Thursday\, November 10th from 11am-3pm!! 🧩🍪 \nThere will be a $3 entree fee and cookies for $5. See you all soon!!
URL:https://sop.utoronto.ca/event/trivia-fundraiser/
LOCATION:Student Centre\, 3359 Mississauga Road\, Mississauga\, Ontario\, L5L1C6\, Canada
CATEGORIES:In Person On Campus
ORGANIZER;CN="Private%3A University of Toronto Mississauga Global Brigades":MAILTO:anusha.nadeem@mail.utoronto.ca
END:VEVENT
END:VCALENDAR