BEGIN:VCALENDAR
VERSION:2.0
PRODID:-//Student Organization Portal - ECPv6.15.20//NONSGML v1.0//EN
CALSCALE:GREGORIAN
METHOD:PUBLISH
X-WR-CALNAME:Student Organization Portal
X-ORIGINAL-URL:https://sop.utoronto.ca
X-WR-CALDESC:Events for Student Organization Portal
REFRESH-INTERVAL;VALUE=DURATION:PT1H
X-Robots-Tag:noindex
X-PUBLISHED-TTL:PT1H
BEGIN:VTIMEZONE
TZID:America/Toronto
BEGIN:DAYLIGHT
TZOFFSETFROM:-0500
TZOFFSETTO:-0400
TZNAME:EDT
DTSTART:20230312T070000
END:DAYLIGHT
BEGIN:STANDARD
TZOFFSETFROM:-0400
TZOFFSETTO:-0500
TZNAME:EST
DTSTART:20231105T060000
END:STANDARD
BEGIN:DAYLIGHT
TZOFFSETFROM:-0500
TZOFFSETTO:-0400
TZNAME:EDT
DTSTART:20240310T070000
END:DAYLIGHT
BEGIN:STANDARD
TZOFFSETFROM:-0400
TZOFFSETTO:-0500
TZNAME:EST
DTSTART:20241103T060000
END:STANDARD
BEGIN:DAYLIGHT
TZOFFSETFROM:-0500
TZOFFSETTO:-0400
TZNAME:EDT
DTSTART:20250309T070000
END:DAYLIGHT
BEGIN:STANDARD
TZOFFSETFROM:-0400
TZOFFSETTO:-0500
TZNAME:EST
DTSTART:20251102T060000
END:STANDARD
END:VTIMEZONE
BEGIN:VEVENT
DTSTART;TZID=America/Toronto:20240310T130000
DTEND;TZID=America/Toronto:20240310T150000
DTSTAMP:20260419T210805
CREATED:20240229T230036Z
LAST-MODIFIED:20240229T230242Z
UID:10000399-1710075600-1710082800@sop.utoronto.ca
SUMMARY:Pathway to Pharmacy
DESCRIPTION:Pathway to Pharmacy is a virtual event hosted by the University of Toronto Pre-Pharmacy Student Association at the St. George Campus. Join us on March 10\, 2024\, from 1 pm to 3 pm to meet our panel of pharmacy students from the Leslie Dan Faculty of Pharmacy. Feel free to bring your questions and listen in to learn about admissions advice\, extracurriculars\, experiences\, and more about the pharmacy school journey! \nLink to register: https://forms.gle/5DocCv1HGGnnwbVy5
URL:https://sop.utoronto.ca/event/pathway-to-pharmacy/
LOCATION:Virtual\, 27 King's College Circle\, Toronto\, Ontario\, M5S 1A1\, Canada
CATEGORIES:Virtual
ORGANIZER;CN="University of Toronto Pre-Pharmacy Student Association (UTPPSA)":MAILTO:eileen.liang@mail.utoronto.ca
END:VEVENT
END:VCALENDAR